BEGIN:VCALENDAR
VERSION:2.0
PRODID:-//Rat Pack Ricky Medlin - ECPv6.15.17//NONSGML v1.0//EN
CALSCALE:GREGORIAN
METHOD:PUBLISH
X-ORIGINAL-URL:https://www.ratpackricky.com
X-WR-CALDESC:Events for Rat Pack Ricky Medlin
REFRESH-INTERVAL;VALUE=DURATION:PT1H
X-Robots-Tag:noindex
X-PUBLISHED-TTL:PT1H
BEGIN:VTIMEZONE
TZID:America/Los_Angeles
BEGIN:DAYLIGHT
TZOFFSETFROM:-0800
TZOFFSETTO:-0700
TZNAME:PDT
DTSTART:20150308T100000
END:DAYLIGHT
BEGIN:STANDARD
TZOFFSETFROM:-0700
TZOFFSETTO:-0800
TZNAME:PST
DTSTART:20151101T090000
END:STANDARD
BEGIN:DAYLIGHT
TZOFFSETFROM:-0800
TZOFFSETTO:-0700
TZNAME:PDT
DTSTART:20160313T100000
END:DAYLIGHT
BEGIN:STANDARD
TZOFFSETFROM:-0700
TZOFFSETTO:-0800
TZNAME:PST
DTSTART:20161106T090000
END:STANDARD
BEGIN:DAYLIGHT
TZOFFSETFROM:-0800
TZOFFSETTO:-0700
TZNAME:PDT
DTSTART:20170312T100000
END:DAYLIGHT
BEGIN:STANDARD
TZOFFSETFROM:-0700
TZOFFSETTO:-0800
TZNAME:PST
DTSTART:20171105T090000
END:STANDARD
END:VTIMEZONE
BEGIN:VEVENT
DTSTART;TZID=America/Los_Angeles:20160831T180000
DTEND;TZID=America/Los_Angeles:20160831T190000
DTSTAMP:20260422T200132
CREATED:20160830T032634Z
LAST-MODIFIED:20160830T033456Z
UID:188-1472666400-1472670000@www.ratpackricky.com
SUMMARY:Fulco's Charity Event
DESCRIPTION:Ricky will be leading off the evenings events with his smooth “Rat Pack” style of music. He’ll then be followed by some of the most talented musicians and artists who have volunteered their talents for one of our very own….”The Fulco’s.” In addition\, the owners of Gino’s\, along with their amazing staff\, will be donating there time to provide the quality of food and service that has made Gino’s one of the High Deserts very best! Please consider coming out and supporting this worthwhile event. All proceeds will be donated to help this very special family. We hope to see you there\, God Bless!
URL:https://www.ratpackricky.com/event/fulcos-charity-event/
LOCATION:Gino’s Italian Restaurant\, 44960 Valley Central Way\, Lancaster\, CA\, 93536\, United States
END:VEVENT
END:VCALENDAR