BEGIN:VCALENDAR
VERSION:2.0
PRODID:-//Rat Pack Ricky Medlin - ECPv6.15.17//NONSGML v1.0//EN
CALSCALE:GREGORIAN
METHOD:PUBLISH
X-WR-CALNAME:Rat Pack Ricky Medlin
X-ORIGINAL-URL:https://www.ratpackricky.com
X-WR-CALDESC:Events for Rat Pack Ricky Medlin
REFRESH-INTERVAL;VALUE=DURATION:PT1H
X-Robots-Tag:noindex
X-PUBLISHED-TTL:PT1H
BEGIN:VTIMEZONE
TZID:America/Los_Angeles
BEGIN:DAYLIGHT
TZOFFSETFROM:-0800
TZOFFSETTO:-0700
TZNAME:PDT
DTSTART:20150308T100000
END:DAYLIGHT
BEGIN:STANDARD
TZOFFSETFROM:-0700
TZOFFSETTO:-0800
TZNAME:PST
DTSTART:20151101T090000
END:STANDARD
BEGIN:DAYLIGHT
TZOFFSETFROM:-0800
TZOFFSETTO:-0700
TZNAME:PDT
DTSTART:20160313T100000
END:DAYLIGHT
BEGIN:STANDARD
TZOFFSETFROM:-0700
TZOFFSETTO:-0800
TZNAME:PST
DTSTART:20161106T090000
END:STANDARD
BEGIN:DAYLIGHT
TZOFFSETFROM:-0800
TZOFFSETTO:-0700
TZNAME:PDT
DTSTART:20170312T100000
END:DAYLIGHT
BEGIN:STANDARD
TZOFFSETFROM:-0700
TZOFFSETTO:-0800
TZNAME:PST
DTSTART:20171105T090000
END:STANDARD
END:VTIMEZONE
BEGIN:VEVENT
DTSTART;TZID=America/Los_Angeles:20160903T120000
DTEND;TZID=America/Los_Angeles:20160903T150000
DTSTAMP:20260422T195807
CREATED:20160830T040750Z
LAST-MODIFIED:20160830T040750Z
UID:190-1472904000-1472914800@www.ratpackricky.com
SUMMARY:Ventura Nationals Car Show
DESCRIPTION:I’ll be performing two separate one hour shows at the historic Ventura Nationals Car Show. This event is held every Labor Day weekend at the Ventura County Fairgrounds. If you love cars\, girls\, and music\, I hope you’ll consider joining me. My first show begins at noon and will go until 1:00 PM. I’ll have an hour break\, and then begin a second performance from 2:00 PM until 3:00 PM.  For exact details visit: The Ventura Nationals website: www.venturanationals.com or on Facebook at Ventura Nationals for exact details of events. I hope to see you and the family there.
URL:https://www.ratpackricky.com/event/ventura-nationals-car-show/
LOCATION:Ventura County Fairgrounds\, 10 W. Harbor Blvd.\, Ventura\, CA\, United States
END:VEVENT
END:VCALENDAR