BEGIN:VCALENDAR
VERSION:2.0
PRODID:-//Rat Pack Ricky Medlin - ECPv6.15.17//NONSGML v1.0//EN
CALSCALE:GREGORIAN
METHOD:PUBLISH
X-ORIGINAL-URL:https://www.ratpackricky.com
X-WR-CALDESC:Events for Rat Pack Ricky Medlin
REFRESH-INTERVAL;VALUE=DURATION:PT1H
X-Robots-Tag:noindex
X-PUBLISHED-TTL:PT1H
BEGIN:VTIMEZONE
TZID:America/Los_Angeles
BEGIN:DAYLIGHT
TZOFFSETFROM:-0800
TZOFFSETTO:-0700
TZNAME:PDT
DTSTART:20150308T100000
END:DAYLIGHT
BEGIN:STANDARD
TZOFFSETFROM:-0700
TZOFFSETTO:-0800
TZNAME:PST
DTSTART:20151101T090000
END:STANDARD
BEGIN:DAYLIGHT
TZOFFSETFROM:-0800
TZOFFSETTO:-0700
TZNAME:PDT
DTSTART:20160313T100000
END:DAYLIGHT
BEGIN:STANDARD
TZOFFSETFROM:-0700
TZOFFSETTO:-0800
TZNAME:PST
DTSTART:20161106T090000
END:STANDARD
BEGIN:DAYLIGHT
TZOFFSETFROM:-0800
TZOFFSETTO:-0700
TZNAME:PDT
DTSTART:20170312T100000
END:DAYLIGHT
BEGIN:STANDARD
TZOFFSETFROM:-0700
TZOFFSETTO:-0800
TZNAME:PST
DTSTART:20171105T090000
END:STANDARD
END:VTIMEZONE
BEGIN:VEVENT
DTSTART;TZID=America/Los_Angeles:20161001T190000
DTEND;TZID=America/Los_Angeles:20161001T220000
DTSTAMP:20260422T181909
CREATED:20160919T181720Z
LAST-MODIFIED:20160919T181720Z
UID:283-1475348400-1475359200@www.ratpackricky.com
SUMMARY:94th Aero Squadron
DESCRIPTION:If you happened to be in the San Fernando Valley\, please stop by for dinner\, an adult beverage\, or a cup of coffee and your favorite dessert. I’ll be performing at this one of a kind restaurant\, and hope you’ll consider joining me as I visit the classics from Dean Martin\, Frank Sinatra\, Ricky Nelson\, Dion and much more!
URL:https://www.ratpackricky.com/event/94th-aero-squadron/
LOCATION:94th Aero Squadron\, 16320 Raymer Street\, Van Nuys\, CA\, 91406\, United States
END:VEVENT
END:VCALENDAR