BEGIN:VCALENDAR
VERSION:2.0
PRODID:-//Rat Pack Ricky Medlin - ECPv6.15.17//NONSGML v1.0//EN
CALSCALE:GREGORIAN
METHOD:PUBLISH
X-ORIGINAL-URL:https://www.ratpackricky.com
X-WR-CALDESC:Events for Rat Pack Ricky Medlin
REFRESH-INTERVAL;VALUE=DURATION:PT1H
X-Robots-Tag:noindex
X-PUBLISHED-TTL:PT1H
BEGIN:VTIMEZONE
TZID:America/Los_Angeles
BEGIN:DAYLIGHT
TZOFFSETFROM:-0800
TZOFFSETTO:-0700
TZNAME:PDT
DTSTART:20150308T100000
END:DAYLIGHT
BEGIN:STANDARD
TZOFFSETFROM:-0700
TZOFFSETTO:-0800
TZNAME:PST
DTSTART:20151101T090000
END:STANDARD
BEGIN:DAYLIGHT
TZOFFSETFROM:-0800
TZOFFSETTO:-0700
TZNAME:PDT
DTSTART:20160313T100000
END:DAYLIGHT
BEGIN:STANDARD
TZOFFSETFROM:-0700
TZOFFSETTO:-0800
TZNAME:PST
DTSTART:20161106T090000
END:STANDARD
BEGIN:DAYLIGHT
TZOFFSETFROM:-0800
TZOFFSETTO:-0700
TZNAME:PDT
DTSTART:20170312T100000
END:DAYLIGHT
BEGIN:STANDARD
TZOFFSETFROM:-0700
TZOFFSETTO:-0800
TZNAME:PST
DTSTART:20171105T090000
END:STANDARD
END:VTIMEZONE
BEGIN:VEVENT
DTSTART;TZID=America/Los_Angeles:20161008T190000
DTEND;TZID=America/Los_Angeles:20161008T220000
DTSTAMP:20260422T181834
CREATED:20160919T183151Z
LAST-MODIFIED:20160919T183151Z
UID:286-1475953200-1475964000@www.ratpackricky.com
SUMMARY:94th Aero Squdron
DESCRIPTION:I’ve been drafted to provide the entertainment at this one of a kind venue. I hope you’ll consider stopping by and joining me for dinner\, an appetizer\, or your favorite dessert\, as I follow orders and provide music from some of the most iconic entertainers – Nat King Cole\, Elvis\, and the original Rat Pack to name a few!
URL:https://www.ratpackricky.com/event/94th-aero-squdron/
LOCATION:94th Aero Squadron\, 16320 Raymer Street\, Van Nuys\, CA\, 91406\, United States
END:VEVENT
END:VCALENDAR