BEGIN:VCALENDAR
VERSION:2.0
PRODID:-//Rat Pack Ricky Medlin - ECPv6.15.17//NONSGML v1.0//EN
CALSCALE:GREGORIAN
METHOD:PUBLISH
X-ORIGINAL-URL:https://www.ratpackricky.com
X-WR-CALDESC:Events for Rat Pack Ricky Medlin
REFRESH-INTERVAL;VALUE=DURATION:PT1H
X-Robots-Tag:noindex
X-PUBLISHED-TTL:PT1H
BEGIN:VTIMEZONE
TZID:America/Los_Angeles
BEGIN:DAYLIGHT
TZOFFSETFROM:-0800
TZOFFSETTO:-0700
TZNAME:PDT
DTSTART:20150308T100000
END:DAYLIGHT
BEGIN:STANDARD
TZOFFSETFROM:-0700
TZOFFSETTO:-0800
TZNAME:PST
DTSTART:20151101T090000
END:STANDARD
BEGIN:DAYLIGHT
TZOFFSETFROM:-0800
TZOFFSETTO:-0700
TZNAME:PDT
DTSTART:20160313T100000
END:DAYLIGHT
BEGIN:STANDARD
TZOFFSETFROM:-0700
TZOFFSETTO:-0800
TZNAME:PST
DTSTART:20161106T090000
END:STANDARD
BEGIN:DAYLIGHT
TZOFFSETFROM:-0800
TZOFFSETTO:-0700
TZNAME:PDT
DTSTART:20170312T100000
END:DAYLIGHT
BEGIN:STANDARD
TZOFFSETFROM:-0700
TZOFFSETTO:-0800
TZNAME:PST
DTSTART:20171105T090000
END:STANDARD
END:VTIMEZONE
BEGIN:VEVENT
DTSTART;TZID=America/Los_Angeles:20161029T183000
DTEND;TZID=America/Los_Angeles:20161029T203000
DTSTAMP:20260422T181819
CREATED:20160919T190623Z
LAST-MODIFIED:20160919T190623Z
UID:290-1477765800-1477773000@www.ratpackricky.com
SUMMARY:Athena's Greek and Mediterranean Restaurant
DESCRIPTION:If you’re in the Santa Clarita area\, please consider stopping by this quaint little restaurant for dinner\, a glass of wine\, or dessert\, as I will be providing the entertainment for two hours only! I hope that you’ll join me as I sing the classics from Ricky Nelson\, Frank Sinatra\, Dean Martin and much more…
URL:https://www.ratpackricky.com/event/athenas-greek-mediterranean-restaurant/
LOCATION:Athena’s Greek Mediterranean Restaurant\, 18853 Soledad Canyon\, Canyon Country\, California \, 91351
END:VEVENT
END:VCALENDAR