BEGIN:VCALENDAR
VERSION:2.0
PRODID:-//Rat Pack Ricky Medlin - ECPv6.15.17//NONSGML v1.0//EN
CALSCALE:GREGORIAN
METHOD:PUBLISH
X-ORIGINAL-URL:https://www.ratpackricky.com
X-WR-CALDESC:Events for Rat Pack Ricky Medlin
REFRESH-INTERVAL;VALUE=DURATION:PT1H
X-Robots-Tag:noindex
X-PUBLISHED-TTL:PT1H
BEGIN:VTIMEZONE
TZID:America/Los_Angeles
BEGIN:DAYLIGHT
TZOFFSETFROM:-0800
TZOFFSETTO:-0700
TZNAME:PDT
DTSTART:20150308T100000
END:DAYLIGHT
BEGIN:STANDARD
TZOFFSETFROM:-0700
TZOFFSETTO:-0800
TZNAME:PST
DTSTART:20151101T090000
END:STANDARD
BEGIN:DAYLIGHT
TZOFFSETFROM:-0800
TZOFFSETTO:-0700
TZNAME:PDT
DTSTART:20160313T100000
END:DAYLIGHT
BEGIN:STANDARD
TZOFFSETFROM:-0700
TZOFFSETTO:-0800
TZNAME:PST
DTSTART:20161106T090000
END:STANDARD
BEGIN:DAYLIGHT
TZOFFSETFROM:-0800
TZOFFSETTO:-0700
TZNAME:PDT
DTSTART:20170312T100000
END:DAYLIGHT
BEGIN:STANDARD
TZOFFSETFROM:-0700
TZOFFSETTO:-0800
TZNAME:PST
DTSTART:20171105T090000
END:STANDARD
END:VTIMEZONE
BEGIN:VEVENT
DTSTART;TZID=America/Los_Angeles:20161126T190000
DTEND;TZID=America/Los_Angeles:20161126T220000
DTSTAMP:20260422T215023
CREATED:20161015T034238Z
LAST-MODIFIED:20161119T011224Z
UID:366-1480186800-1480197600@www.ratpackricky.com
SUMMARY:94th Aero Squadron - Van Nuys
DESCRIPTION:Please stop by this one of a kind restaurant\, which is located adjacent to the Van Nuys Airport. You will truly feel as though you’ve been transported back to WWII Europe with military memorabilia everywhere. If you’ve never had the opportunity to have dinner\, cocktails\, or coffee and a dessert at this special venue\, now’s your chance! I’ll provide the classics while you enjoy the one of a kind ambiance! I hope to see you there!
URL:https://www.ratpackricky.com/event/94th-aero-squadron-van-nuys-3/
LOCATION:94th Aero Squadron\, 16320 Raymer Street\, Van Nuys\, CA\, 91406\, United States
END:VEVENT
BEGIN:VEVENT
DTSTART;TZID=America/Los_Angeles:20161126T190000
DTEND;TZID=America/Los_Angeles:20161126T220000
DTSTAMP:20260422T215023
CREATED:20161126T150029Z
LAST-MODIFIED:20161002T000846Z
UID:356-1480186800-1480197600@www.ratpackricky.com
SUMMARY:94th Aero Squadron - Van Nuys
DESCRIPTION:Take a stroll down memory lane and reflect on memories that you’ve already made at this one of a kind venue\, and help me to create new ones. Please come and join me as it won’t be the same without you!
URL:https://www.ratpackricky.com/event/94th-aero-squadron-van-nuys-2/
LOCATION:94th Aero Squadron\, 16320 Raymer Street\, Van Nuys\, CA\, 91406\, United States
END:VEVENT
END:VCALENDAR