BEGIN:VCALENDAR
VERSION:2.0
PRODID:-//Rat Pack Ricky Medlin - ECPv6.15.17//NONSGML v1.0//EN
CALSCALE:GREGORIAN
METHOD:PUBLISH
X-WR-CALNAME:Rat Pack Ricky Medlin
X-ORIGINAL-URL:https://www.ratpackricky.com
X-WR-CALDESC:Events for Rat Pack Ricky Medlin
REFRESH-INTERVAL;VALUE=DURATION:PT1H
X-Robots-Tag:noindex
X-PUBLISHED-TTL:PT1H
BEGIN:VTIMEZONE
TZID:America/Los_Angeles
BEGIN:DAYLIGHT
TZOFFSETFROM:-0800
TZOFFSETTO:-0700
TZNAME:PDT
DTSTART:20160313T100000
END:DAYLIGHT
BEGIN:STANDARD
TZOFFSETFROM:-0700
TZOFFSETTO:-0800
TZNAME:PST
DTSTART:20161106T090000
END:STANDARD
BEGIN:DAYLIGHT
TZOFFSETFROM:-0800
TZOFFSETTO:-0700
TZNAME:PDT
DTSTART:20170312T100000
END:DAYLIGHT
BEGIN:STANDARD
TZOFFSETFROM:-0700
TZOFFSETTO:-0800
TZNAME:PST
DTSTART:20171105T090000
END:STANDARD
BEGIN:DAYLIGHT
TZOFFSETFROM:-0800
TZOFFSETTO:-0700
TZNAME:PDT
DTSTART:20180311T100000
END:DAYLIGHT
BEGIN:STANDARD
TZOFFSETFROM:-0700
TZOFFSETTO:-0800
TZNAME:PST
DTSTART:20181104T090000
END:STANDARD
END:VTIMEZONE
BEGIN:VEVENT
DTSTART;TZID=America/Los_Angeles:20170106T190000
DTEND;TZID=America/Los_Angeles:20170106T220000
DTSTAMP:20260422T135459
CREATED:20161223T102202Z
LAST-MODIFIED:20161223T102202Z
UID:436-1483729200-1483740000@www.ratpackricky.com
SUMMARY:Zelda's - Lancaster Performing Arts
DESCRIPTION:HAPPY NEW YEAR! To my wonderful friends in the High Desert\, or those of you travelling to the High Desert\, please come and join me at this wonderful and unique location. Zelda’s is part of the city owned Lancaster Performing Arts\, which is located on the BLVD. The entertainment is usually moved inside depending on the weather; however\, be sure to bundle up during the winter season\, as the High Desert evenings can be brisk!
URL:https://www.ratpackricky.com/event/zeldas-lancaster-performing-arts/
LOCATION:Zelda’s 750 West\, 750 West Lancaster Blvd.\, Lancaster\, California \, 93534
END:VEVENT
END:VCALENDAR