BEGIN:VCALENDAR
VERSION:2.0
PRODID:-//Rat Pack Ricky Medlin - ECPv6.15.17//NONSGML v1.0//EN
CALSCALE:GREGORIAN
METHOD:PUBLISH
X-ORIGINAL-URL:https://www.ratpackricky.com
X-WR-CALDESC:Events for Rat Pack Ricky Medlin
REFRESH-INTERVAL;VALUE=DURATION:PT1H
X-Robots-Tag:noindex
X-PUBLISHED-TTL:PT1H
BEGIN:VTIMEZONE
TZID:America/Los_Angeles
BEGIN:DAYLIGHT
TZOFFSETFROM:-0800
TZOFFSETTO:-0700
TZNAME:PDT
DTSTART:20160313T100000
END:DAYLIGHT
BEGIN:STANDARD
TZOFFSETFROM:-0700
TZOFFSETTO:-0800
TZNAME:PST
DTSTART:20161106T090000
END:STANDARD
BEGIN:DAYLIGHT
TZOFFSETFROM:-0800
TZOFFSETTO:-0700
TZNAME:PDT
DTSTART:20170312T100000
END:DAYLIGHT
BEGIN:STANDARD
TZOFFSETFROM:-0700
TZOFFSETTO:-0800
TZNAME:PST
DTSTART:20171105T090000
END:STANDARD
BEGIN:DAYLIGHT
TZOFFSETFROM:-0800
TZOFFSETTO:-0700
TZNAME:PDT
DTSTART:20180311T100000
END:DAYLIGHT
BEGIN:STANDARD
TZOFFSETFROM:-0700
TZOFFSETTO:-0800
TZNAME:PST
DTSTART:20181104T090000
END:STANDARD
END:VTIMEZONE
BEGIN:VEVENT
DTSTART;TZID=America/Los_Angeles:20170113T170000
DTEND;TZID=America/Los_Angeles:20170113T220000
DTSTAMP:20260422T152417
CREATED:20161223T104340Z
LAST-MODIFIED:20161223T104340Z
UID:438-1484326800-1484344800@www.ratpackricky.com
SUMMARY:Private Event - Nostalgic Hollywood - Rancho Vista Golf Country Club!
DESCRIPTION:I’ll be performing at this beautiful venue as part of a private event\, which is sponsored by the Palmdale Chamber of Commerce. I hope that you’ll consider joining me at another event in the near future. Please know that your positive thoughts are always welcomed and certainly appreciated!
URL:https://www.ratpackricky.com/event/private-event-nostalgic-hollywood-rancho-vista-golf-country-club/
LOCATION:Rancho Vista Golf Country Club\, 3905 Club Rancho Drive\, Palmdale\, California \, 93551
END:VEVENT
END:VCALENDAR