BEGIN:VCALENDAR
VERSION:2.0
PRODID:-//Rat Pack Ricky Medlin - ECPv6.15.17//NONSGML v1.0//EN
CALSCALE:GREGORIAN
METHOD:PUBLISH
X-WR-CALNAME:Rat Pack Ricky Medlin
X-ORIGINAL-URL:https://www.ratpackricky.com
X-WR-CALDESC:Events for Rat Pack Ricky Medlin
REFRESH-INTERVAL;VALUE=DURATION:PT1H
X-Robots-Tag:noindex
X-PUBLISHED-TTL:PT1H
BEGIN:VTIMEZONE
TZID:America/Los_Angeles
BEGIN:DAYLIGHT
TZOFFSETFROM:-0800
TZOFFSETTO:-0700
TZNAME:PDT
DTSTART:20160313T100000
END:DAYLIGHT
BEGIN:STANDARD
TZOFFSETFROM:-0700
TZOFFSETTO:-0800
TZNAME:PST
DTSTART:20161106T090000
END:STANDARD
BEGIN:DAYLIGHT
TZOFFSETFROM:-0800
TZOFFSETTO:-0700
TZNAME:PDT
DTSTART:20170312T100000
END:DAYLIGHT
BEGIN:STANDARD
TZOFFSETFROM:-0700
TZOFFSETTO:-0800
TZNAME:PST
DTSTART:20171105T090000
END:STANDARD
BEGIN:DAYLIGHT
TZOFFSETFROM:-0800
TZOFFSETTO:-0700
TZNAME:PDT
DTSTART:20180311T100000
END:DAYLIGHT
BEGIN:STANDARD
TZOFFSETFROM:-0700
TZOFFSETTO:-0800
TZNAME:PST
DTSTART:20181104T090000
END:STANDARD
END:VTIMEZONE
BEGIN:VEVENT
DTSTART;TZID=America/Los_Angeles:20170203T190000
DTEND;TZID=America/Los_Angeles:20170203T220000
DTSTAMP:20260422T123800
CREATED:20170109T094939Z
LAST-MODIFIED:20170109T094939Z
UID:470-1486148400-1486159200@www.ratpackricky.com
SUMMARY:Pour D Vino Wine Lounge and Bistro on the Blvd.
DESCRIPTION:I’ll be providing the entertainment at this quaint venue located on the Blvd in downtown Lancaster. This is a unique Wine Lounge and Bistro that caters to the true wine connoisseur\, with an equally impressive menu.  Stop by and enjoy dinner\, dancing\, and a glass of your favorite Bordeaux\, while I perform music from greats like Tony Bennett\, Frank Sinatra\, Dean Martin\, Elvis\, and Ricky Nelson to name a few.  I hope you’ll come join me.
URL:https://www.ratpackricky.com/event/pour-d-vino-wine-lounge-bistro-blvd/
LOCATION:Pour D’ Vino\, 741 W. Lancaster Blvd.\, Lancaster\, California \, 93534
END:VEVENT
END:VCALENDAR