BEGIN:VCALENDAR
VERSION:2.0
PRODID:-//Rat Pack Ricky Medlin - ECPv6.15.17//NONSGML v1.0//EN
CALSCALE:GREGORIAN
METHOD:PUBLISH
X-WR-CALNAME:Rat Pack Ricky Medlin
X-ORIGINAL-URL:https://www.ratpackricky.com
X-WR-CALDESC:Events for Rat Pack Ricky Medlin
REFRESH-INTERVAL;VALUE=DURATION:PT1H
X-Robots-Tag:noindex
X-PUBLISHED-TTL:PT1H
BEGIN:VTIMEZONE
TZID:America/Los_Angeles
BEGIN:DAYLIGHT
TZOFFSETFROM:-0800
TZOFFSETTO:-0700
TZNAME:PDT
DTSTART:20160313T100000
END:DAYLIGHT
BEGIN:STANDARD
TZOFFSETFROM:-0700
TZOFFSETTO:-0800
TZNAME:PST
DTSTART:20161106T090000
END:STANDARD
BEGIN:DAYLIGHT
TZOFFSETFROM:-0800
TZOFFSETTO:-0700
TZNAME:PDT
DTSTART:20170312T100000
END:DAYLIGHT
BEGIN:STANDARD
TZOFFSETFROM:-0700
TZOFFSETTO:-0800
TZNAME:PST
DTSTART:20171105T090000
END:STANDARD
BEGIN:DAYLIGHT
TZOFFSETFROM:-0800
TZOFFSETTO:-0700
TZNAME:PDT
DTSTART:20180311T100000
END:DAYLIGHT
BEGIN:STANDARD
TZOFFSETFROM:-0700
TZOFFSETTO:-0800
TZNAME:PST
DTSTART:20181104T090000
END:STANDARD
END:VTIMEZONE
BEGIN:VEVENT
DTSTART;TZID=America/Los_Angeles:20170218T190000
DTEND;TZID=America/Los_Angeles:20170218T220000
DTSTAMP:20260422T123746
CREATED:20170122T094431Z
LAST-MODIFIED:20170122T094431Z
UID:496-1487444400-1487455200@www.ratpackricky.com
SUMMARY:Pour D' Vino - Lancaster Blvd.
DESCRIPTION:I’ll be performing at this quaint lounge and bistro\, which sports an upstairs balcony overlooking the street. In addition\, there’s an enclosed front patio that provides a place to smoke a cigar as well. If you consider yourself a coinsure of fine wines\, then this is your place.
URL:https://www.ratpackricky.com/event/pour-d-vino-lancaster-blvd/
LOCATION:Pour D’ Vino\, 741 W. Lancaster Blvd.\, Lancaster\, California \, 93534
END:VEVENT
END:VCALENDAR