BEGIN:VCALENDAR
VERSION:2.0
PRODID:-//Rat Pack Ricky Medlin - ECPv6.15.17//NONSGML v1.0//EN
CALSCALE:GREGORIAN
METHOD:PUBLISH
X-ORIGINAL-URL:https://www.ratpackricky.com
X-WR-CALDESC:Events for Rat Pack Ricky Medlin
REFRESH-INTERVAL;VALUE=DURATION:PT1H
X-Robots-Tag:noindex
X-PUBLISHED-TTL:PT1H
BEGIN:VTIMEZONE
TZID:America/Los_Angeles
BEGIN:DAYLIGHT
TZOFFSETFROM:-0800
TZOFFSETTO:-0700
TZNAME:PDT
DTSTART:20160313T100000
END:DAYLIGHT
BEGIN:STANDARD
TZOFFSETFROM:-0700
TZOFFSETTO:-0800
TZNAME:PST
DTSTART:20161106T090000
END:STANDARD
BEGIN:DAYLIGHT
TZOFFSETFROM:-0800
TZOFFSETTO:-0700
TZNAME:PDT
DTSTART:20170312T100000
END:DAYLIGHT
BEGIN:STANDARD
TZOFFSETFROM:-0700
TZOFFSETTO:-0800
TZNAME:PST
DTSTART:20171105T090000
END:STANDARD
BEGIN:DAYLIGHT
TZOFFSETFROM:-0800
TZOFFSETTO:-0700
TZNAME:PDT
DTSTART:20180311T100000
END:DAYLIGHT
BEGIN:STANDARD
TZOFFSETFROM:-0700
TZOFFSETTO:-0800
TZNAME:PST
DTSTART:20181104T090000
END:STANDARD
END:VTIMEZONE
BEGIN:VEVENT
DTSTART;TZID=America/Los_Angeles:20170413T190000
DTEND;TZID=America/Los_Angeles:20170413T220000
DTSTAMP:20260422T101721
CREATED:20170404T054447Z
LAST-MODIFIED:20170404T054447Z
UID:609-1492110000-1492120800@www.ratpackricky.com
SUMMARY:Smoke House - Hello Burbank!
DESCRIPTION:How lucky am I to be booked at this historic restaurant twice in one month. I hope you can join me for one of three upcoming events in beautiful Burbank. I’ll be performing at the Smoke House on the 13th and the 20th of this month. I will also be participating in the historic Burbank Parade on the 29th of this month as well. Please drop by and say hello\, as I visit songs from the Great American Songbook\, Elvis\, Frankie Valle\, Ricky Nelson and much more. As always\, thank you for your well wishes and continued support. Remember\, without you\, none of this would be possible!
URL:https://www.ratpackricky.com/event/smoke-house-hello-burbank-2/
LOCATION:The Smoke House Restaurant\, 4420 Lakeside Dr\, Burbank\, CA\, 91505\, United States
END:VEVENT
END:VCALENDAR