BEGIN:VCALENDAR
VERSION:2.0
PRODID:-//Rat Pack Ricky Medlin - ECPv6.15.17//NONSGML v1.0//EN
CALSCALE:GREGORIAN
METHOD:PUBLISH
X-ORIGINAL-URL:https://www.ratpackricky.com
X-WR-CALDESC:Events for Rat Pack Ricky Medlin
REFRESH-INTERVAL;VALUE=DURATION:PT1H
X-Robots-Tag:noindex
X-PUBLISHED-TTL:PT1H
BEGIN:VTIMEZONE
TZID:America/Los_Angeles
BEGIN:DAYLIGHT
TZOFFSETFROM:-0800
TZOFFSETTO:-0700
TZNAME:PDT
DTSTART:20160313T100000
END:DAYLIGHT
BEGIN:STANDARD
TZOFFSETFROM:-0700
TZOFFSETTO:-0800
TZNAME:PST
DTSTART:20161106T090000
END:STANDARD
BEGIN:DAYLIGHT
TZOFFSETFROM:-0800
TZOFFSETTO:-0700
TZNAME:PDT
DTSTART:20170312T100000
END:DAYLIGHT
BEGIN:STANDARD
TZOFFSETFROM:-0700
TZOFFSETTO:-0800
TZNAME:PST
DTSTART:20171105T090000
END:STANDARD
BEGIN:DAYLIGHT
TZOFFSETFROM:-0800
TZOFFSETTO:-0700
TZNAME:PDT
DTSTART:20180311T100000
END:DAYLIGHT
BEGIN:STANDARD
TZOFFSETFROM:-0700
TZOFFSETTO:-0800
TZNAME:PST
DTSTART:20181104T090000
END:STANDARD
END:VTIMEZONE
BEGIN:VEVENT
DTSTART;TZID=America/Los_Angeles:20170525T190000
DTEND;TZID=America/Los_Angeles:20170525T220000
DTSTAMP:20260422T102256
CREATED:20170516T070312Z
LAST-MODIFIED:20170516T070312Z
UID:706-1495738800-1495749600@www.ratpackricky.com
SUMMARY:Zelda's 750 is part of the Lancaster Perfoming Arts Center
DESCRIPTION:So lucky to perform at this diamond of a venue. I hope you’ll consider joining me for an adult beverage\, food\, and great company!
URL:https://www.ratpackricky.com/event/zeldas-750-part-lancaster-perfoming-arts-center/
LOCATION:CA
END:VEVENT
END:VCALENDAR