BEGIN:VCALENDAR
VERSION:2.0
PRODID:-//Rat Pack Ricky Medlin - ECPv6.15.17//NONSGML v1.0//EN
CALSCALE:GREGORIAN
METHOD:PUBLISH
X-WR-CALNAME:Rat Pack Ricky Medlin
X-ORIGINAL-URL:https://www.ratpackricky.com
X-WR-CALDESC:Events for Rat Pack Ricky Medlin
REFRESH-INTERVAL;VALUE=DURATION:PT1H
X-Robots-Tag:noindex
X-PUBLISHED-TTL:PT1H
BEGIN:VTIMEZONE
TZID:America/Los_Angeles
BEGIN:DAYLIGHT
TZOFFSETFROM:-0800
TZOFFSETTO:-0700
TZNAME:PDT
DTSTART:20160313T100000
END:DAYLIGHT
BEGIN:STANDARD
TZOFFSETFROM:-0700
TZOFFSETTO:-0800
TZNAME:PST
DTSTART:20161106T090000
END:STANDARD
BEGIN:DAYLIGHT
TZOFFSETFROM:-0800
TZOFFSETTO:-0700
TZNAME:PDT
DTSTART:20170312T100000
END:DAYLIGHT
BEGIN:STANDARD
TZOFFSETFROM:-0700
TZOFFSETTO:-0800
TZNAME:PST
DTSTART:20171105T090000
END:STANDARD
BEGIN:DAYLIGHT
TZOFFSETFROM:-0800
TZOFFSETTO:-0700
TZNAME:PDT
DTSTART:20180311T100000
END:DAYLIGHT
BEGIN:STANDARD
TZOFFSETFROM:-0700
TZOFFSETTO:-0800
TZNAME:PST
DTSTART:20181104T090000
END:STANDARD
END:VTIMEZONE
BEGIN:VEVENT
DTSTART;TZID=America/Los_Angeles:20170805T183000
DTEND;TZID=America/Los_Angeles:20170805T213000
DTSTAMP:20260422T051258
CREATED:20170707T084913Z
LAST-MODIFIED:20170707T090403Z
UID:768-1501957800-1501968600@www.ratpackricky.com
SUMMARY:94th Aero Squadron - Adjacent to the Van Nuys Airport
DESCRIPTION:I’ll be performing at this truly one of a kind venue. The ambiance of this wonderful restaurant truly makes you feel as though you’ve been transported back to WWII Europe\, with military memorabilia throughout. The patio provides access to nearby runways as you observe private jets\, helicopters and other planes take off and land. I hope you’ll consider joining me\, as it won’t be the same without you.
URL:https://www.ratpackricky.com/event/94th-aero-squadron-adjacent-van-nuys-airport/
LOCATION:94th Aero Squadron\, 16320 Raymer Street\, Van Nuys\, CA\, 91406\, United States
END:VEVENT
END:VCALENDAR