BEGIN:VCALENDAR
VERSION:2.0
PRODID:-//Rat Pack Ricky Medlin - ECPv6.15.17//NONSGML v1.0//EN
CALSCALE:GREGORIAN
METHOD:PUBLISH
X-WR-CALNAME:Rat Pack Ricky Medlin
X-ORIGINAL-URL:https://www.ratpackricky.com
X-WR-CALDESC:Events for Rat Pack Ricky Medlin
REFRESH-INTERVAL;VALUE=DURATION:PT1H
X-Robots-Tag:noindex
X-PUBLISHED-TTL:PT1H
BEGIN:VTIMEZONE
TZID:America/Los_Angeles
BEGIN:DAYLIGHT
TZOFFSETFROM:-0800
TZOFFSETTO:-0700
TZNAME:PDT
DTSTART:20160313T100000
END:DAYLIGHT
BEGIN:STANDARD
TZOFFSETFROM:-0700
TZOFFSETTO:-0800
TZNAME:PST
DTSTART:20161106T090000
END:STANDARD
BEGIN:DAYLIGHT
TZOFFSETFROM:-0800
TZOFFSETTO:-0700
TZNAME:PDT
DTSTART:20170312T100000
END:DAYLIGHT
BEGIN:STANDARD
TZOFFSETFROM:-0700
TZOFFSETTO:-0800
TZNAME:PST
DTSTART:20171105T090000
END:STANDARD
BEGIN:DAYLIGHT
TZOFFSETFROM:-0800
TZOFFSETTO:-0700
TZNAME:PDT
DTSTART:20180311T100000
END:DAYLIGHT
BEGIN:STANDARD
TZOFFSETFROM:-0700
TZOFFSETTO:-0800
TZNAME:PST
DTSTART:20181104T090000
END:STANDARD
END:VTIMEZONE
BEGIN:VEVENT
DTSTART;TZID=America/Los_Angeles:20171013T180000
DTEND;TZID=America/Los_Angeles:20171013T220000
DTSTAMP:20260422T024154
CREATED:20170909T094510Z
LAST-MODIFIED:20171003T000800Z
UID:889-1507917600-1507932000@www.ratpackricky.com
SUMMARY:Edward's Air Force Base - Private Event Honoring the 70th Anniversary of Supersonic Flight & Air Force Birthday Ball
DESCRIPTION:I’m honored beyond words to have been asked to provide the entertainment for this historic event. These incredibly brave men climbed into experimental aircraft in an effort to push the limits to ensure that our air force were flying the most capable military jets on the planet.
URL:https://www.ratpackricky.com/event/edwards-air-force-base-private-event-honor-colonel-william-j-pete-knight/
LOCATION:Edward’s Air Force Base\, 305 E. Popson Avenue\, Edward's Air Force Base\, California\, 93524
END:VEVENT
END:VCALENDAR