BEGIN:VCALENDAR
VERSION:2.0
PRODID:-//Rat Pack Ricky Medlin - ECPv6.15.17//NONSGML v1.0//EN
CALSCALE:GREGORIAN
METHOD:PUBLISH
X-WR-CALNAME:Rat Pack Ricky Medlin
X-ORIGINAL-URL:https://www.ratpackricky.com
X-WR-CALDESC:Events for Rat Pack Ricky Medlin
REFRESH-INTERVAL;VALUE=DURATION:PT1H
X-Robots-Tag:noindex
X-PUBLISHED-TTL:PT1H
BEGIN:VTIMEZONE
TZID:America/Los_Angeles
BEGIN:DAYLIGHT
TZOFFSETFROM:-0800
TZOFFSETTO:-0700
TZNAME:PDT
DTSTART:20160313T100000
END:DAYLIGHT
BEGIN:STANDARD
TZOFFSETFROM:-0700
TZOFFSETTO:-0800
TZNAME:PST
DTSTART:20161106T090000
END:STANDARD
BEGIN:DAYLIGHT
TZOFFSETFROM:-0800
TZOFFSETTO:-0700
TZNAME:PDT
DTSTART:20170312T100000
END:DAYLIGHT
BEGIN:STANDARD
TZOFFSETFROM:-0700
TZOFFSETTO:-0800
TZNAME:PST
DTSTART:20171105T090000
END:STANDARD
BEGIN:DAYLIGHT
TZOFFSETFROM:-0800
TZOFFSETTO:-0700
TZNAME:PDT
DTSTART:20180311T100000
END:DAYLIGHT
BEGIN:STANDARD
TZOFFSETFROM:-0700
TZOFFSETTO:-0800
TZNAME:PST
DTSTART:20181104T090000
END:STANDARD
END:VTIMEZONE
BEGIN:VEVENT
DTSTART;TZID=America/Los_Angeles:20171108T220000
DTEND;TZID=America/Los_Angeles:20171108T220000
DTSTAMP:20260422T013101
CREATED:20171027T033412Z
LAST-MODIFIED:20171027T033412Z
UID:971-1510178400-1510178400@www.ratpackricky.com
SUMMARY:The world Famous Roxy on the Sunset Strip...Somebody pinch me!
DESCRIPTION:I’m blessed beyond words to be opening at this historical venue in West Hollywood. I’ll be opening and closing the show for Dane Delucchi and his amazing band “The Strips\, along with “The Dead Poet Society.” I hope that you’ll consider coming out to support me during this amazing opportunity. If you can’t make it\, your positive thoughts and prayers would be welcomed.  My first hour long set begins at 10:00 – 11:00 PM and my second set will be from 1:00 – 2:00 AM. Parking is $10.00\, and I’ll post ticket prices in a few days. I truly hope to see you there\, as it won’t be the same without each of you!
URL:https://www.ratpackricky.com/event/world-famous-roxy-sunset-strip-somebody-pinch/
LOCATION:The Roxy\, 9009 Sunset Blvd.\, West Hollywood\, CA\, 9009\, United States
END:VEVENT
END:VCALENDAR