BEGIN:VCALENDAR
VERSION:2.0
PRODID:-//Rat Pack Ricky Medlin - ECPv6.15.17//NONSGML v1.0//EN
CALSCALE:GREGORIAN
METHOD:PUBLISH
X-ORIGINAL-URL:https://www.ratpackricky.com
X-WR-CALDESC:Events for Rat Pack Ricky Medlin
REFRESH-INTERVAL;VALUE=DURATION:PT1H
X-Robots-Tag:noindex
X-PUBLISHED-TTL:PT1H
BEGIN:VTIMEZONE
TZID:America/Los_Angeles
BEGIN:DAYLIGHT
TZOFFSETFROM:-0800
TZOFFSETTO:-0700
TZNAME:PDT
DTSTART:20160313T100000
END:DAYLIGHT
BEGIN:STANDARD
TZOFFSETFROM:-0700
TZOFFSETTO:-0800
TZNAME:PST
DTSTART:20161106T090000
END:STANDARD
BEGIN:DAYLIGHT
TZOFFSETFROM:-0800
TZOFFSETTO:-0700
TZNAME:PDT
DTSTART:20170312T100000
END:DAYLIGHT
BEGIN:STANDARD
TZOFFSETFROM:-0700
TZOFFSETTO:-0800
TZNAME:PST
DTSTART:20171105T090000
END:STANDARD
BEGIN:DAYLIGHT
TZOFFSETFROM:-0800
TZOFFSETTO:-0700
TZNAME:PDT
DTSTART:20180311T100000
END:DAYLIGHT
BEGIN:STANDARD
TZOFFSETFROM:-0700
TZOFFSETTO:-0800
TZNAME:PST
DTSTART:20181104T090000
END:STANDARD
END:VTIMEZONE
BEGIN:VEVENT
DTSTART;TZID=America/Los_Angeles:20171206T190000
DTEND;TZID=America/Los_Angeles:20171206T220000
DTSTAMP:20260422T014044
CREATED:20171205T075710Z
LAST-MODIFIED:20171205T075710Z
UID:1068-1512586800-1512597600@www.ratpackricky.com
SUMMARY:Sorriso's Italian Restaurant  - Hello Pasadena!
DESCRIPTION:If you happened to be in the Pasadena area I hope you’ll come join me as I perform some of my favorite old and new Christmas songs for the wonderful patrons at this quaint Italian restaurant in old town Pasadena. They have an incredible menu\, adult beverages\, and for those with a sweet tooth special desserts!
URL:https://www.ratpackricky.com/event/sorrisos-italian-restaurant-hello-pasadena/
LOCATION:Sorriso’s\, 46 E. Colorado Blvd\, Pasadena\, California\, 91105
END:VEVENT
END:VCALENDAR