BEGIN:VCALENDAR
VERSION:2.0
PRODID:-//Rat Pack Ricky Medlin - ECPv6.15.17//NONSGML v1.0//EN
CALSCALE:GREGORIAN
METHOD:PUBLISH
X-WR-CALNAME:Rat Pack Ricky Medlin
X-ORIGINAL-URL:https://www.ratpackricky.com
X-WR-CALDESC:Events for Rat Pack Ricky Medlin
REFRESH-INTERVAL;VALUE=DURATION:PT1H
X-Robots-Tag:noindex
X-PUBLISHED-TTL:PT1H
BEGIN:VTIMEZONE
TZID:America/Los_Angeles
BEGIN:DAYLIGHT
TZOFFSETFROM:-0800
TZOFFSETTO:-0700
TZNAME:PDT
DTSTART:20170312T100000
END:DAYLIGHT
BEGIN:STANDARD
TZOFFSETFROM:-0700
TZOFFSETTO:-0800
TZNAME:PST
DTSTART:20171105T090000
END:STANDARD
BEGIN:DAYLIGHT
TZOFFSETFROM:-0800
TZOFFSETTO:-0700
TZNAME:PDT
DTSTART:20180311T100000
END:DAYLIGHT
BEGIN:STANDARD
TZOFFSETFROM:-0700
TZOFFSETTO:-0800
TZNAME:PST
DTSTART:20181104T090000
END:STANDARD
BEGIN:DAYLIGHT
TZOFFSETFROM:-0800
TZOFFSETTO:-0700
TZNAME:PDT
DTSTART:20190310T100000
END:DAYLIGHT
BEGIN:STANDARD
TZOFFSETFROM:-0700
TZOFFSETTO:-0800
TZNAME:PST
DTSTART:20191103T090000
END:STANDARD
END:VTIMEZONE
BEGIN:VEVENT
DTSTART;TZID=America/Los_Angeles:20180513T110000
DTEND;TZID=America/Los_Angeles:20180513T150000
DTSTAMP:20260421T172755
CREATED:20180427T052735Z
LAST-MODIFIED:20180427T052735Z
UID:1287-1526209200-1526223600@www.ratpackricky.com
SUMMARY:The Cascades
DESCRIPTION:Please join me for a special celebration of Mother’s. This event is open to the public; however\, reservations are definitely required. What can be more beautiful than the backdrop of  Rancho Vista Golf Course. Let’s celebrate those special ladies that we call Mom! Hope you’ll join me. If you can’t make it\, I’d like to wish each and every Mom a wonderful day as special as you.
URL:https://www.ratpackricky.com/event/the-cascades/
LOCATION:Rancho Vista Golf Country Club\, 3905 Club Rancho Drive\, Palmdale\, California \, 93551
END:VEVENT
END:VCALENDAR