BEGIN:VCALENDAR
VERSION:2.0
PRODID:-//Rat Pack Ricky Medlin - ECPv6.15.17//NONSGML v1.0//EN
CALSCALE:GREGORIAN
METHOD:PUBLISH
X-WR-CALNAME:Rat Pack Ricky Medlin
X-ORIGINAL-URL:https://www.ratpackricky.com
X-WR-CALDESC:Events for Rat Pack Ricky Medlin
REFRESH-INTERVAL;VALUE=DURATION:PT1H
X-Robots-Tag:noindex
X-PUBLISHED-TTL:PT1H
BEGIN:VTIMEZONE
TZID:America/Los_Angeles
BEGIN:DAYLIGHT
TZOFFSETFROM:-0800
TZOFFSETTO:-0700
TZNAME:PDT
DTSTART:20170312T100000
END:DAYLIGHT
BEGIN:STANDARD
TZOFFSETFROM:-0700
TZOFFSETTO:-0800
TZNAME:PST
DTSTART:20171105T090000
END:STANDARD
BEGIN:DAYLIGHT
TZOFFSETFROM:-0800
TZOFFSETTO:-0700
TZNAME:PDT
DTSTART:20180311T100000
END:DAYLIGHT
BEGIN:STANDARD
TZOFFSETFROM:-0700
TZOFFSETTO:-0800
TZNAME:PST
DTSTART:20181104T090000
END:STANDARD
BEGIN:DAYLIGHT
TZOFFSETFROM:-0800
TZOFFSETTO:-0700
TZNAME:PDT
DTSTART:20190310T100000
END:DAYLIGHT
BEGIN:STANDARD
TZOFFSETFROM:-0700
TZOFFSETTO:-0800
TZNAME:PST
DTSTART:20191103T090000
END:STANDARD
END:VTIMEZONE
BEGIN:VEVENT
DTSTART;TZID=America/Los_Angeles:20180608T170000
DTEND;TZID=America/Los_Angeles:20180608T183000
DTSTAMP:20260421T160858
CREATED:20180518T211511Z
LAST-MODIFIED:20180602T191048Z
UID:1320-1528477200-1528482600@www.ratpackricky.com
SUMMARY:Celebrate America With Thunder - Lancaster Blvd!
DESCRIPTION:Thank you to the City of Lancaster for inviting me back to this wonderful event saluting America! I’ll be performing two 45 minute sets: First from 5 – 5:45 PM and the Second set immediately following opening Ceremonies\, which should be from 5:55ish until 6:40ish. I hope you’ll bring the entire family to this wonderful event saluting you – America! The event stage will be at the intersection where Bex was located. There will be other live entertainment and a car show throughout the evening.
URL:https://www.ratpackricky.com/event/celebrate-america-lancaster-blvd-2/
LOCATION:700 Block West Lancaster Blvd.\, 700 West Lancaster Blvd\, Lancaster\, California\, 93534
END:VEVENT
END:VCALENDAR