BEGIN:VCALENDAR
VERSION:2.0
PRODID:-//Rat Pack Ricky Medlin - ECPv6.15.17//NONSGML v1.0//EN
CALSCALE:GREGORIAN
METHOD:PUBLISH
X-WR-CALNAME:Rat Pack Ricky Medlin
X-ORIGINAL-URL:https://www.ratpackricky.com
X-WR-CALDESC:Events for Rat Pack Ricky Medlin
REFRESH-INTERVAL;VALUE=DURATION:PT1H
X-Robots-Tag:noindex
X-PUBLISHED-TTL:PT1H
BEGIN:VTIMEZONE
TZID:America/Los_Angeles
BEGIN:DAYLIGHT
TZOFFSETFROM:-0800
TZOFFSETTO:-0700
TZNAME:PDT
DTSTART:20170312T100000
END:DAYLIGHT
BEGIN:STANDARD
TZOFFSETFROM:-0700
TZOFFSETTO:-0800
TZNAME:PST
DTSTART:20171105T090000
END:STANDARD
BEGIN:DAYLIGHT
TZOFFSETFROM:-0800
TZOFFSETTO:-0700
TZNAME:PDT
DTSTART:20180311T100000
END:DAYLIGHT
BEGIN:STANDARD
TZOFFSETFROM:-0700
TZOFFSETTO:-0800
TZNAME:PST
DTSTART:20181104T090000
END:STANDARD
BEGIN:DAYLIGHT
TZOFFSETFROM:-0800
TZOFFSETTO:-0700
TZNAME:PDT
DTSTART:20190310T100000
END:DAYLIGHT
BEGIN:STANDARD
TZOFFSETFROM:-0700
TZOFFSETTO:-0800
TZNAME:PST
DTSTART:20191103T090000
END:STANDARD
END:VTIMEZONE
BEGIN:VEVENT
DTSTART;TZID=America/Los_Angeles:20180609T100000
DTEND;TZID=America/Los_Angeles:20180609T110000
DTSTAMP:20260421T160921
CREATED:20180523T091006Z
LAST-MODIFIED:20180523T091006Z
UID:1345-1528538400-1528542000@www.ratpackricky.com
SUMMARY:2nd Annual Frogfest honoring the life of a true Hero - Sergeant Steve Owen
DESCRIPTION:Please join me as the High Desert honors a true patriot and hero – Sgt. Steve Owen at the 2nd annual Frogfest. This event will be held at the Lancaster Harley Davidson. I’ll be kicking off the event by singing our National Anthem at 10am\, which will immediately be followed by a host of talented bands. Come out to support this worthwhile event sponsored by Help for Heroes !!!! I hope to see you there\, and thank you for your support!
URL:https://www.ratpackricky.com/event/2nd-annual-frogfest-honoring-the-life-of-a-true-hero-sergeant-steve-owen/
LOCATION:Lancaster Harley Davidson\, 1759 W. Avenue J-12\, Lancaster\, California\, 93534
END:VEVENT
END:VCALENDAR