BEGIN:VCALENDAR
VERSION:2.0
PRODID:-//Rat Pack Ricky Medlin - ECPv6.15.17//NONSGML v1.0//EN
CALSCALE:GREGORIAN
METHOD:PUBLISH
X-ORIGINAL-URL:https://www.ratpackricky.com
X-WR-CALDESC:Events for Rat Pack Ricky Medlin
REFRESH-INTERVAL;VALUE=DURATION:PT1H
X-Robots-Tag:noindex
X-PUBLISHED-TTL:PT1H
BEGIN:VTIMEZONE
TZID:America/Los_Angeles
BEGIN:DAYLIGHT
TZOFFSETFROM:-0800
TZOFFSETTO:-0700
TZNAME:PDT
DTSTART:20170312T100000
END:DAYLIGHT
BEGIN:STANDARD
TZOFFSETFROM:-0700
TZOFFSETTO:-0800
TZNAME:PST
DTSTART:20171105T090000
END:STANDARD
BEGIN:DAYLIGHT
TZOFFSETFROM:-0800
TZOFFSETTO:-0700
TZNAME:PDT
DTSTART:20180311T100000
END:DAYLIGHT
BEGIN:STANDARD
TZOFFSETFROM:-0700
TZOFFSETTO:-0800
TZNAME:PST
DTSTART:20181104T090000
END:STANDARD
BEGIN:DAYLIGHT
TZOFFSETFROM:-0800
TZOFFSETTO:-0700
TZNAME:PDT
DTSTART:20190310T100000
END:DAYLIGHT
BEGIN:STANDARD
TZOFFSETFROM:-0700
TZOFFSETTO:-0800
TZNAME:PST
DTSTART:20191103T090000
END:STANDARD
END:VTIMEZONE
BEGIN:VEVENT
DTSTART;TZID=America/Los_Angeles:20180623T180000
DTEND;TZID=America/Los_Angeles:20180623T210000
DTSTAMP:20260421T161316
CREATED:20180519T003827Z
LAST-MODIFIED:20180611T081208Z
UID:1335-1529776800-1529787600@www.ratpackricky.com
SUMMARY:The 94th Aero Squadron!!! Adjacent to the Van Nuys Airport - Early dinner show!
DESCRIPTION:Yep\, you’ve been asking\, and now this classy one of a kind location has an entertainment budget once again! If you haven’t been – it’s a must see\, if you’ve been welcome back!! Let’s make this evening extra special and join me for an intimate evening either in the bar or on the awesome patio. The location will be announced the night of the event\, so bring a light jacket or sweater as well. There are large firepits situated on the patio as well. Bring the entire family and enjoy the WWI and WWII military memorabilia decorated throughout.
URL:https://www.ratpackricky.com/event/the-94th-aero-squadron-adjacent-to-the-van-nuys-airport-early-dinner-show/
LOCATION:94th Aero Squadron\, 16320 Raymer Street\, Van Nuys\, CA\, 91406\, United States
END:VEVENT
END:VCALENDAR