BEGIN:VCALENDAR
VERSION:2.0
PRODID:-//Rat Pack Ricky Medlin - ECPv6.15.17//NONSGML v1.0//EN
CALSCALE:GREGORIAN
METHOD:PUBLISH
X-ORIGINAL-URL:https://www.ratpackricky.com
X-WR-CALDESC:Events for Rat Pack Ricky Medlin
REFRESH-INTERVAL;VALUE=DURATION:PT1H
X-Robots-Tag:noindex
X-PUBLISHED-TTL:PT1H
BEGIN:VTIMEZONE
TZID:America/Los_Angeles
BEGIN:DAYLIGHT
TZOFFSETFROM:-0800
TZOFFSETTO:-0700
TZNAME:PDT
DTSTART:20170312T100000
END:DAYLIGHT
BEGIN:STANDARD
TZOFFSETFROM:-0700
TZOFFSETTO:-0800
TZNAME:PST
DTSTART:20171105T090000
END:STANDARD
BEGIN:DAYLIGHT
TZOFFSETFROM:-0800
TZOFFSETTO:-0700
TZNAME:PDT
DTSTART:20180311T100000
END:DAYLIGHT
BEGIN:STANDARD
TZOFFSETFROM:-0700
TZOFFSETTO:-0800
TZNAME:PST
DTSTART:20181104T090000
END:STANDARD
BEGIN:DAYLIGHT
TZOFFSETFROM:-0800
TZOFFSETTO:-0700
TZNAME:PDT
DTSTART:20190310T100000
END:DAYLIGHT
BEGIN:STANDARD
TZOFFSETFROM:-0700
TZOFFSETTO:-0800
TZNAME:PST
DTSTART:20191103T090000
END:STANDARD
END:VTIMEZONE
BEGIN:VEVENT
DTSTART;TZID=America/Los_Angeles:20180728T180000
DTEND;TZID=America/Los_Angeles:20180728T210000
DTSTAMP:20260421T162045
CREATED:20180625T081017Z
LAST-MODIFIED:20180709T204336Z
UID:1385-1532800800-1532811600@www.ratpackricky.com
SUMMARY:Gino's - Valley Central Way - near the JetHawks Stadium.
DESCRIPTION:Please join me as I provide the entertainment at this wonderful family owned Italian Restaurant. The food is authentic\, with tasteful desserts and a truly welcoming staff. A fully stocked bar with your special drink only an order away. Let’s enjoy a summer Saturday evening together\, and remember\, it’s never the same without each of you.
URL:https://www.ratpackricky.com/event/ginos-valley-central-way-near-the-jethawks-stadium/
LOCATION:Gino’s Italian Restaurant\, 44960 Valley Central Way\, Lancaster\, CA\, 93536\, United States
END:VEVENT
END:VCALENDAR