BEGIN:VCALENDAR
VERSION:2.0
PRODID:-//Rat Pack Ricky Medlin - ECPv6.15.17//NONSGML v1.0//EN
CALSCALE:GREGORIAN
METHOD:PUBLISH
X-ORIGINAL-URL:https://www.ratpackricky.com
X-WR-CALDESC:Events for Rat Pack Ricky Medlin
REFRESH-INTERVAL;VALUE=DURATION:PT1H
X-Robots-Tag:noindex
X-PUBLISHED-TTL:PT1H
BEGIN:VTIMEZONE
TZID:America/Los_Angeles
BEGIN:DAYLIGHT
TZOFFSETFROM:-0800
TZOFFSETTO:-0700
TZNAME:PDT
DTSTART:20170312T100000
END:DAYLIGHT
BEGIN:STANDARD
TZOFFSETFROM:-0700
TZOFFSETTO:-0800
TZNAME:PST
DTSTART:20171105T090000
END:STANDARD
BEGIN:DAYLIGHT
TZOFFSETFROM:-0800
TZOFFSETTO:-0700
TZNAME:PDT
DTSTART:20180311T100000
END:DAYLIGHT
BEGIN:STANDARD
TZOFFSETFROM:-0700
TZOFFSETTO:-0800
TZNAME:PST
DTSTART:20181104T090000
END:STANDARD
BEGIN:DAYLIGHT
TZOFFSETFROM:-0800
TZOFFSETTO:-0700
TZNAME:PDT
DTSTART:20190310T100000
END:DAYLIGHT
BEGIN:STANDARD
TZOFFSETFROM:-0700
TZOFFSETTO:-0800
TZNAME:PST
DTSTART:20191103T090000
END:STANDARD
END:VTIMEZONE
BEGIN:VEVENT
DTSTART;TZID=America/Los_Angeles:20180804T180000
DTEND;TZID=America/Los_Angeles:20180804T210000
DTSTAMP:20260421T134125
CREATED:20180725T221242Z
LAST-MODIFIED:20180725T221242Z
UID:1420-1533405600-1533416400@www.ratpackricky.com
SUMMARY:94th Aero Squadron - Hello Van Nuys!
DESCRIPTION:If you happened to be in the San Fernando Valley I hope that you’ll stop by this wonderful an unique venue. You’ll feel as though you’ve been transported to a makeshift WWI military base in Europe with authentic old jeeps\, airplanes\, and what looks like machinegun nest. This is truly a fun place for all. You can also step outside to the patio and enjoy watching the airplanes take off and land at Van Nuys Airport. Best of all\, I get the wonderful opportunity to perform at this truly amazing restaurant! Remember\, without each of you\, NONE of this would be possible.
URL:https://www.ratpackricky.com/event/94th-aero-squadron-hello-van-nuys/
LOCATION:94th Aero Squadron\, 16320 Raymer Street\, Van Nuys\, CA\, 91406\, United States
END:VEVENT
END:VCALENDAR