BEGIN:VCALENDAR
VERSION:2.0
PRODID:-//Rat Pack Ricky Medlin - ECPv6.15.17//NONSGML v1.0//EN
CALSCALE:GREGORIAN
METHOD:PUBLISH
X-ORIGINAL-URL:https://www.ratpackricky.com
X-WR-CALDESC:Events for Rat Pack Ricky Medlin
REFRESH-INTERVAL;VALUE=DURATION:PT1H
X-Robots-Tag:noindex
X-PUBLISHED-TTL:PT1H
BEGIN:VTIMEZONE
TZID:America/Los_Angeles
BEGIN:DAYLIGHT
TZOFFSETFROM:-0800
TZOFFSETTO:-0700
TZNAME:PDT
DTSTART:20170312T100000
END:DAYLIGHT
BEGIN:STANDARD
TZOFFSETFROM:-0700
TZOFFSETTO:-0800
TZNAME:PST
DTSTART:20171105T090000
END:STANDARD
BEGIN:DAYLIGHT
TZOFFSETFROM:-0800
TZOFFSETTO:-0700
TZNAME:PDT
DTSTART:20180311T100000
END:DAYLIGHT
BEGIN:STANDARD
TZOFFSETFROM:-0700
TZOFFSETTO:-0800
TZNAME:PST
DTSTART:20181104T090000
END:STANDARD
BEGIN:DAYLIGHT
TZOFFSETFROM:-0800
TZOFFSETTO:-0700
TZNAME:PDT
DTSTART:20190310T100000
END:DAYLIGHT
BEGIN:STANDARD
TZOFFSETFROM:-0700
TZOFFSETTO:-0800
TZNAME:PST
DTSTART:20191103T090000
END:STANDARD
END:VTIMEZONE
BEGIN:VEVENT
DTSTART;TZID=America/Los_Angeles:20180820T140000
DTEND;TZID=America/Los_Angeles:20180820T160000
DTSTAMP:20260421T134201
CREATED:20180808T012845Z
LAST-MODIFIED:20180808T012845Z
UID:1437-1534773600-1534780800@www.ratpackricky.com
SUMMARY:Antelope Valley Fair 2018 - Senior's and Special Needs Appreciation Day
DESCRIPTION:I’m honored to announce that I will be performing again this year at our “Salute to Seniors and Special Needs Day.” THE EVENT IS FREE TO ALL SENIORS AND OUR SPECIAL NEEDS COMMUNITY. Please join me as I provide the entertainment and food is served. For exact details please contact the Fair via their website or contact number.
URL:https://www.ratpackricky.com/event/antelope-valley-fair-2018-seniors-and-special-needs-appreciation-day/
LOCATION:Antelope Valley Fair Grounds\, 2551 West Avenue H\, Lancaster\, California\, 93536
END:VEVENT
END:VCALENDAR