BEGIN:VCALENDAR
VERSION:2.0
PRODID:-//Rat Pack Ricky Medlin - ECPv6.15.17//NONSGML v1.0//EN
CALSCALE:GREGORIAN
METHOD:PUBLISH
X-WR-CALNAME:Rat Pack Ricky Medlin
X-ORIGINAL-URL:https://www.ratpackricky.com
X-WR-CALDESC:Events for Rat Pack Ricky Medlin
REFRESH-INTERVAL;VALUE=DURATION:PT1H
X-Robots-Tag:noindex
X-PUBLISHED-TTL:PT1H
BEGIN:VTIMEZONE
TZID:America/Los_Angeles
BEGIN:DAYLIGHT
TZOFFSETFROM:-0800
TZOFFSETTO:-0700
TZNAME:PDT
DTSTART:20150308T100000
END:DAYLIGHT
BEGIN:STANDARD
TZOFFSETFROM:-0700
TZOFFSETTO:-0800
TZNAME:PST
DTSTART:20151101T090000
END:STANDARD
BEGIN:DAYLIGHT
TZOFFSETFROM:-0800
TZOFFSETTO:-0700
TZNAME:PDT
DTSTART:20160313T100000
END:DAYLIGHT
BEGIN:STANDARD
TZOFFSETFROM:-0700
TZOFFSETTO:-0800
TZNAME:PST
DTSTART:20161106T090000
END:STANDARD
BEGIN:DAYLIGHT
TZOFFSETFROM:-0800
TZOFFSETTO:-0700
TZNAME:PDT
DTSTART:20170312T100000
END:DAYLIGHT
BEGIN:STANDARD
TZOFFSETFROM:-0700
TZOFFSETTO:-0800
TZNAME:PST
DTSTART:20171105T090000
END:STANDARD
END:VTIMEZONE
BEGIN:VEVENT
DTSTART;TZID=America/Los_Angeles:20161202T180000
DTEND;TZID=America/Los_Angeles:20161202T210000
DTSTAMP:20260422T135600
CREATED:20161107T071939Z
LAST-MODIFIED:20161107T081219Z
UID:371-1480701600-1480712400@www.ratpackricky.com
SUMMARY:Gino's - Lancaster
DESCRIPTION:It’s that time of year when I get to add some of my favorite Christmas songs mixed in with the classics. Please come by and enjoy some of the best Italian food in the Antelope Valley\, as I provide the holiday entertainment. I hope you’ll join me as I celebrate my favorite time of year “Rat Pack Style.” \n 
URL:https://www.ratpackricky.com/event/ginos/
LOCATION:Gino’s Italian Restaurant\, 44960 Valley Central Way\, Lancaster\, CA\, 93536\, United States
END:VEVENT
BEGIN:VEVENT
DTSTART;TZID=America/Los_Angeles:20161203T190000
DTEND;TZID=America/Los_Angeles:20161203T220000
DTSTAMP:20260422T135600
CREATED:20161107T073022Z
LAST-MODIFIED:20161107T073022Z
UID:377-1480791600-1480802400@www.ratpackricky.com
SUMMARY:94th Aero Squadron - Van Nuys - Airport
DESCRIPTION:I’ve been drafted to provide the entertainment at this one of a kind venue. December is my favorite time of the year\, as I get to add some of my favorite Christmas songs along with the classics. I hope you can join me for dinner\, a cocktail\, or coffee and desert\, as I provide the evenings entertainment! Safe travels to all during the holiday season. \n 
URL:https://www.ratpackricky.com/event/94th-aero-squadron-van-nuys-airport/
LOCATION:94th Aero Squadron\, 16320 Raymer Street\, Van Nuys\, CA\, 91406\, United States
END:VEVENT
BEGIN:VEVENT
DTSTART;TZID=America/Los_Angeles:20161208T200000
DTEND;TZID=America/Los_Angeles:20161208T230000
DTSTAMP:20260422T135600
CREATED:20161107T075301Z
LAST-MODIFIED:20161209T002355Z
UID:380-1481227200-1481238000@www.ratpackricky.com
SUMMARY:The Smoke House - Burbank - I JUST DISCOVERED THE LOUNGE IS CLOSED FOR A PRIVATE PARTY!!!
DESCRIPTION:Note: We will be starting an hour later than usual to allow for Thursday Night Football. \nNeed I say more! The Smoke House!!!! Anyway\, December is my favorite time of the year\, as I get to mix some of my favorite Christmas songs in with the classics. Please come by for a romantic dinner\, a cocktail\, or coffee and desert\, as I provide the evenings entertainment. By the way\, did I mention “Garlic Bread!” Remember – Safe travels to all during this hectic holiday season. Your loved ones and family need you!
URL:https://www.ratpackricky.com/event/smoke-house-burbank-2/
LOCATION:The Smoke House Restaurant\, 4420 Lakeside Dr\, Burbank\, CA\, 91505\, United States
END:VEVENT
BEGIN:VEVENT
DTSTART;TZID=America/Los_Angeles:20161209T190000
DTEND;TZID=America/Los_Angeles:20161209T220000
DTSTAMP:20260422T135600
CREATED:20161111T002356Z
LAST-MODIFIED:20161119T011146Z
UID:399-1481310000-1481320800@www.ratpackricky.com
SUMMARY:Zelda's - Lancaster
DESCRIPTION:Please join me at this wonderful hidden gem. I’ll be providing the entertainment\, including songs selected for my favorite holiday season. Zelda’s is part of LPAC. This wonderful venue serves exceptional cocktails\, hors devours\, a patio with heaters\, and a picturesque wall fountain that you have to see.  I hope you’ll consider joining me!
URL:https://www.ratpackricky.com/event/zeldas-lancaster/
LOCATION:Zelda’s 750 West\, 750 West Lancaster Blvd.\, Lancaster\, California \, 93534
END:VEVENT
BEGIN:VEVENT
DTSTART;TZID=America/Los_Angeles:20161210T190000
DTEND;TZID=America/Los_Angeles:20161210T220000
DTSTAMP:20260422T135600
CREATED:20161107T080841Z
LAST-MODIFIED:20161107T080841Z
UID:385-1481396400-1481407200@www.ratpackricky.com
SUMMARY:94th Aero Squadron - Van Nuys
DESCRIPTION:If you have never been to this one of a kind venue\, please consider joining me. Everything about this venue screams history! It is like taking a trip back to WWII Europe\, with airplanes\, jeeps\, canons\, and military memorabilia everywhere. It’s also my favorite time of year\, as I get to add some of my favorite Christmas songs to the classics. You can almost envision the late Bing Crosby and Danny Kaye enjoying a glass of buttermilk. Remember safe travels during the hectic holiday season\, as your loved ones and friends need you!
URL:https://www.ratpackricky.com/event/94th-aero-squadron-van-nuys-4/
LOCATION:94th Aero Squadron\, 16320 Raymer Street\, Van Nuys\, CA\, 91406\, United States
END:VEVENT
BEGIN:VEVENT
DTSTART;TZID=America/Los_Angeles:20161217T190000
DTEND;TZID=America/Los_Angeles:20161217T220000
DTSTAMP:20260422T135600
CREATED:20161114T081536Z
LAST-MODIFIED:20161114T081536Z
UID:412-1482001200-1482012000@www.ratpackricky.com
SUMMARY:Zelda's - LPAC - Lancaster
DESCRIPTION:Please come and join me at this hidden gem on Lancaster Blvd. The venue\, better known as Zelda’s 750 West\, which is part of the Lancaster Performing Arts\, must be seen to truly appreciate the “Speakeasy” atmosphere. With rooms that will accompany groups of friends\, or your colleagues from work. The patio touts a large wall fountain with columns of fire at there peek\, and romantic lighting. Zelda’s has a full service bar\, and hors d’oeuvre. However\, no need to keep this one a secret….. :-). Finally\, be sure to bring a warm jacket\, as the patio can get a little chilly. Let the fun begin!
URL:https://www.ratpackricky.com/event/zeldas-lpac-lancaster-2/
LOCATION:Zelda’s 750 West\, 750 West Lancaster Blvd.\, Lancaster\, California \, 93534
END:VEVENT
BEGIN:VEVENT
DTSTART;TZID=America/Los_Angeles:20161218T200000
DTEND;TZID=America/Los_Angeles:20161218T230000
DTSTAMP:20260422T135600
CREATED:20161114T074730Z
LAST-MODIFIED:20161114T075126Z
UID:409-1482091200-1482102000@www.ratpackricky.com
SUMMARY:Johnny Holiday Christmas Show - The Historic Cicada Club in Downtown Los Angeles
DESCRIPTION:I would like to invite you and your family to join me as I’ll be part of “The Johnny Holiday Christmas Show” again this year. If you’ve ever wondered what it must have been like to attend a dinner show in the style of the big bands era\, then your wait is over. Fellas – dust off those fedoras\, along with your special suit and dancing shoes. Ladies – grab those cocktail dresses\, your best dancing shoes\, and come and join me for this one of a kind Christmas show at this one of a kind venue.  The Cicada Club was built in 1928 and has two dance floors\, a hand cranked elevator and much more! Please visit the Cicada Club website for details including dress codes\, dinner packages\, and admission tickets to a show that sells out every year. You will truly feel as though you’ve travelled through time to witness a show in the style of Bing Crosby\, Bob Hope\, Andy Williams\, and others.
URL:https://www.ratpackricky.com/event/johnny-holiday-christmas-show-historic-cicada-club-downtown-los-angeles/
LOCATION:Cicada Club\, 617 South Olive Street\, Los Angeles\, CA\,  90014\, United States
END:VEVENT
BEGIN:VEVENT
DTSTART;TZID=America/Los_Angeles:20161224T180000
DTEND;TZID=America/Los_Angeles:20161224T210000
DTSTAMP:20260422T135600
CREATED:20161107T084329Z
LAST-MODIFIED:20161107T084329Z
UID:390-1482602400-1482613200@www.ratpackricky.com
SUMMARY:Gino's - Lancaster - Christmas Eve!
DESCRIPTION:I know that Christmas Eve can certainly be hectic for each of us. To remove one more thing from your last minute “To Do List\,” consider joining me and the wonderful staff at Gino’s for dinner. While you relax and gather your thoughts\, you’ll be served some of the best Italian food in the Antelope Valley and I’ll provide the Christmas entertainment! Remember – Safe travels to each of you during this hectic holiday season\, as your loved ones and friends need you! Finally\, Merry Christmas to each of you\, and prayers for a safe and prosperous New Years!
URL:https://www.ratpackricky.com/event/ginos-lancaster-christmas-eve/
LOCATION:Gino’s Italian Restaurant\, 44960 Valley Central Way\, Lancaster\, CA\, 93536\, United States
END:VEVENT
BEGIN:VEVENT
DTSTART;TZID=America/Los_Angeles:20161231T200000
DTEND;TZID=America/Los_Angeles:20161231T200000
DTSTAMP:20260422T135600
CREATED:20161107T090137Z
LAST-MODIFIED:20161209T093655Z
UID:394-1483214400-1483214400@www.ratpackricky.com
SUMMARY:Private New Years Party with the General!!
DESCRIPTION:Wow – 2017! I blinked and some how missed 2016. Anyway\, I’m honored to perform on behalf of a true American hero\, his family\, friends\, and colleagues. This individual is stationed at Edward’s Air Force Base\, and was recently promoted to the rank of General. I can’t think of a better way to bring in the New Year than to perform for those who protect this great country! Finally\, safe travels to each of you during this New Years Eve\, and remember – your loved ones and friends need you!
URL:https://www.ratpackricky.com/event/private-new-years-party/
LOCATION:CA
END:VEVENT
END:VCALENDAR