BEGIN:VCALENDAR
VERSION:2.0
PRODID:-//Rat Pack Ricky Medlin - ECPv6.15.17//NONSGML v1.0//EN
CALSCALE:GREGORIAN
METHOD:PUBLISH
X-WR-CALNAME:Rat Pack Ricky Medlin
X-ORIGINAL-URL:https://www.ratpackricky.com
X-WR-CALDESC:Events for Rat Pack Ricky Medlin
REFRESH-INTERVAL;VALUE=DURATION:PT1H
X-Robots-Tag:noindex
X-PUBLISHED-TTL:PT1H
BEGIN:VTIMEZONE
TZID:America/Los_Angeles
BEGIN:DAYLIGHT
TZOFFSETFROM:-0800
TZOFFSETTO:-0700
TZNAME:PDT
DTSTART:20160313T100000
END:DAYLIGHT
BEGIN:STANDARD
TZOFFSETFROM:-0700
TZOFFSETTO:-0800
TZNAME:PST
DTSTART:20161106T090000
END:STANDARD
BEGIN:DAYLIGHT
TZOFFSETFROM:-0800
TZOFFSETTO:-0700
TZNAME:PDT
DTSTART:20170312T100000
END:DAYLIGHT
BEGIN:STANDARD
TZOFFSETFROM:-0700
TZOFFSETTO:-0800
TZNAME:PST
DTSTART:20171105T090000
END:STANDARD
BEGIN:DAYLIGHT
TZOFFSETFROM:-0800
TZOFFSETTO:-0700
TZNAME:PDT
DTSTART:20180311T100000
END:DAYLIGHT
BEGIN:STANDARD
TZOFFSETFROM:-0700
TZOFFSETTO:-0800
TZNAME:PST
DTSTART:20181104T090000
END:STANDARD
END:VTIMEZONE
BEGIN:VEVENT
DTSTART;TZID=America/Los_Angeles:20170302T190000
DTEND;TZID=America/Los_Angeles:20170302T220000
DTSTAMP:20260422T101416
CREATED:20170225T090657Z
LAST-MODIFIED:20170225T090657Z
UID:573-1488481200-1488492000@www.ratpackricky.com
SUMMARY:The Smoke House
DESCRIPTION:Hello Burbank! I’ll be providing the entertainment and would be honored if you’d join me at this world class restaurant. If you’ve never been\, you’ve got to come! If you’ve been\, welcome back!
URL:https://www.ratpackricky.com/event/the-smoke-house/
LOCATION:The Smoke House Restaurant\, 4420 Lakeside Dr\, Burbank\, CA\, 91505\, United States
END:VEVENT
BEGIN:VEVENT
DTSTART;TZID=America/Los_Angeles:20170303T190000
DTEND;TZID=America/Los_Angeles:20170303T220000
DTSTAMP:20260422T101416
CREATED:20170201T194333Z
LAST-MODIFIED:20170201T194333Z
UID:509-1488567600-1488578400@www.ratpackricky.com
SUMMARY:Zelda's @ The Lancaster Performing Arts Center on the Blvd!
DESCRIPTION:I’ll be providing the entertainment at this wonderful lounge\, which was designed in the style of the infamous Speakeasy’s. I hope you can stop by and enjoy a cocktail and Hors d’ oeuvres\, as I perform music from the Great American Songbook and much more….
URL:https://www.ratpackricky.com/event/zeldas-lancaster-performing-arts-center-blvd/
LOCATION:Zelda’s 750 West\, 750 West Lancaster Blvd.\, Lancaster\, California \, 93534
END:VEVENT
BEGIN:VEVENT
DTSTART;TZID=America/Los_Angeles:20170304T070000
DTEND;TZID=America/Los_Angeles:20170304T220000
DTSTAMP:20260422T101416
CREATED:20170201T200720Z
LAST-MODIFIED:20170201T200720Z
UID:512-1488610800-1488664800@www.ratpackricky.com
SUMMARY:94th Aero Squadron - Van Nuys!
DESCRIPTION:I’m blessed to be performing at this wonderful venue the first Saturday of every month!  I’ll be performing songs from the Great American Songbook\, Franke Valle\, Elvis\, Ricky Nelson\, and Tony Bennet to name a few. If you’ve never been to this awesome venue\, you’ve got to come! If you’ve been here before; however\, it’s been a while\, welcome back!  You’ll truly feel as though you’ve travelled back to WWI Europe\, with military memorabilia located throughout the restaurant. If that’s not enough\, there are views of airplanes and private jets taking off and landing from the Van Nuys Airport.  I truly hope to see you sometime in the near future. Until then\, keep chasing your dreams!
URL:https://www.ratpackricky.com/event/94th-aero-squadron-van-nuys-5/
LOCATION:94th Aero Squadron\, 16320 Raymer Street\, Van Nuys\, CA\, 91406\, United States
END:VEVENT
BEGIN:VEVENT
DTSTART;TZID=America/Los_Angeles:20170311T173000
DTEND;TZID=America/Los_Angeles:20170311T213000
DTSTAMP:20260422T101416
CREATED:20170201T224317Z
LAST-MODIFIED:20170307T075504Z
UID:538-1489253400-1489267800@www.ratpackricky.com
SUMMARY:North Ranch Country Club - Members Only!
DESCRIPTION:Hello Westlake Village! I’ll be providing the entertainment for the members of this exclusive Country Club.
URL:https://www.ratpackricky.com/event/north-ranch-country-club-closed-members/
LOCATION:North Ranch Country Club\, 91362
END:VEVENT
BEGIN:VEVENT
DTSTART;TZID=America/Los_Angeles:20170316T190000
DTEND;TZID=America/Los_Angeles:20170316T220000
DTSTAMP:20260422T101416
CREATED:20170225T091705Z
LAST-MODIFIED:20170225T091705Z
UID:581-1489690800-1489701600@www.ratpackricky.com
SUMMARY:Zelda's @ the Lancaster Performing Arts located on the Blvd!
DESCRIPTION:I’ll be providing the entertainment at this wonderful lounge\, which was designed in the style of the infamous Speakeasy’s. I hope you can stop by and enjoy a cocktail and Hors d’ oeuvres\, as I perform music from the Great American Songbook and much more….
URL:https://www.ratpackricky.com/event/zeldas-lancaster-performing-arts-located-blvd/
LOCATION:Zelda’s 750 West\, 750 West Lancaster Blvd.\, Lancaster\, California \, 93534
END:VEVENT
BEGIN:VEVENT
DTSTART;TZID=America/Los_Angeles:20170318T180000
DTEND;TZID=America/Los_Angeles:20170318T210000
DTSTAMP:20260422T101416
CREATED:20170201T205937Z
LAST-MODIFIED:20170201T205937Z
UID:522-1489860000-1489870800@www.ratpackricky.com
SUMMARY:Gino's - Lancaster West - located in the Lancaster City Market PLace
DESCRIPTION:Please join me for dinner\, adult beverages\, or just coffee and dessert\, as I provide the evenings entertainment at this awesome venue! If you can make it\, please be sure to say hello! In the meantime\, follow your dreams! \n 
URL:https://www.ratpackricky.com/event/ginos-lancaster-west-located-lancaster-city-market-place/
LOCATION:Gino’s Italian Restaurant\, 44960 Valley Central Way\, Lancaster\, CA\, 93536\, United States
END:VEVENT
BEGIN:VEVENT
DTSTART;TZID=America/Los_Angeles:20170324T190000
DTEND;TZID=America/Los_Angeles:20170325T190000
DTSTAMP:20260422T101416
CREATED:20170201T221947Z
LAST-MODIFIED:20170201T222214Z
UID:525-1490382000-1490468400@www.ratpackricky.com
SUMMARY:Sacramento - Private Event
DESCRIPTION:Hello Sacramento! I’ll be providing the evenings entertainment for the Quarter Century Dinner Dance on behalf of the Collie Club of America! Can’t wait to sing to Lassie! 🙂
URL:https://www.ratpackricky.com/event/sacramento-private-event/
LOCATION:TBA\, 95814
END:VEVENT
BEGIN:VEVENT
DTSTART;TZID=America/Los_Angeles:20170329T100000
DTEND;TZID=America/Los_Angeles:20170329T150000
DTSTAMP:20260422T101416
CREATED:20170330T060747Z
LAST-MODIFIED:20170330T060747Z
UID:601-1490781600-1490799600@www.ratpackricky.com
SUMMARY:Recording Studio
DESCRIPTION:I’ll be in the recording studio today. Wish me luck!
URL:https://www.ratpackricky.com/event/recording-studio/
LOCATION:CA
END:VEVENT
BEGIN:VEVENT
DTSTART;TZID=America/Los_Angeles:20170330T190000
DTEND;TZID=America/Los_Angeles:20170330T220000
DTSTAMP:20260422T101416
CREATED:20170225T091430Z
LAST-MODIFIED:20170225T091430Z
UID:578-1490900400-1490911200@www.ratpackricky.com
SUMMARY:Zelda's at the Lancaster Performing Arts on the Blvd!
DESCRIPTION:I’ll be providing the entertainment at this wonderful lounge. I hope you can stop by and enjoy a cocktail and Hors d’ oeuvres\, as I perform music from the Great American Songbook and much more….
URL:https://www.ratpackricky.com/event/zeldas-lancaster-performing-arts-blvd/
LOCATION:Zelda’s 750 West\, 750 West Lancaster Blvd.\, Lancaster\, California \, 93534
END:VEVENT
END:VCALENDAR