BEGIN:VCALENDAR
VERSION:2.0
PRODID:-//Rat Pack Ricky Medlin - ECPv6.15.17//NONSGML v1.0//EN
CALSCALE:GREGORIAN
METHOD:PUBLISH
X-WR-CALNAME:Rat Pack Ricky Medlin
X-ORIGINAL-URL:https://www.ratpackricky.com
X-WR-CALDESC:Events for Rat Pack Ricky Medlin
REFRESH-INTERVAL;VALUE=DURATION:PT1H
X-Robots-Tag:noindex
X-PUBLISHED-TTL:PT1H
BEGIN:VTIMEZONE
TZID:America/Los_Angeles
BEGIN:DAYLIGHT
TZOFFSETFROM:-0800
TZOFFSETTO:-0700
TZNAME:PDT
DTSTART:20160313T100000
END:DAYLIGHT
BEGIN:STANDARD
TZOFFSETFROM:-0700
TZOFFSETTO:-0800
TZNAME:PST
DTSTART:20161106T090000
END:STANDARD
BEGIN:DAYLIGHT
TZOFFSETFROM:-0800
TZOFFSETTO:-0700
TZNAME:PDT
DTSTART:20170312T100000
END:DAYLIGHT
BEGIN:STANDARD
TZOFFSETFROM:-0700
TZOFFSETTO:-0800
TZNAME:PST
DTSTART:20171105T090000
END:STANDARD
BEGIN:DAYLIGHT
TZOFFSETFROM:-0800
TZOFFSETTO:-0700
TZNAME:PDT
DTSTART:20180311T100000
END:DAYLIGHT
BEGIN:STANDARD
TZOFFSETFROM:-0700
TZOFFSETTO:-0800
TZNAME:PST
DTSTART:20181104T090000
END:STANDARD
END:VTIMEZONE
BEGIN:VEVENT
DTSTART;TZID=America/Los_Angeles:20170401T190000
DTEND;TZID=America/Los_Angeles:20170401T220000
DTSTAMP:20260422T090315
CREATED:20170201T223147Z
LAST-MODIFIED:20170201T223147Z
UID:535-1491073200-1491084000@www.ratpackricky.com
SUMMARY:94th Aero Squadron - Van Nuys!
DESCRIPTION:Hello San Fernando Valley! I hope you’ll consider spending the evening with me at this one of a kind venue. I’ll provide the evenings entertainment\, while you enjoy dinner\, drinks\, or coffee and dessert.
URL:https://www.ratpackricky.com/event/94th-aero-squadron-van-nuys-6/
LOCATION:94th Aero Squadron\, 16320 Raymer Street\, Van Nuys\, CA\, 91406\, United States
END:VEVENT
BEGIN:VEVENT
DTSTART;TZID=America/Los_Angeles:20170406T170000
DTEND;TZID=America/Los_Angeles:20170406T180000
DTSTAMP:20260422T090315
CREATED:20170406T090727Z
LAST-MODIFIED:20170406T090727Z
UID:628-1491498000-1491501600@www.ratpackricky.com
SUMMARY:Private Event - Westlake Village
DESCRIPTION:Hello Westlake Village!
URL:https://www.ratpackricky.com/event/private-event-westlake-village/
LOCATION:CA
END:VEVENT
BEGIN:VEVENT
DTSTART;TZID=America/Los_Angeles:20170408T173000
DTEND;TZID=America/Los_Angeles:20170408T213000
DTSTAMP:20260422T090315
CREATED:20170201T224820Z
LAST-MODIFIED:20170201T224820Z
UID:546-1491672600-1491687000@www.ratpackricky.com
SUMMARY:North Ranch Country Club - Private Event - Members Only!
DESCRIPTION:Hello Westlake Village! I’ll be providing the entertainment for the members of this beautiful Country Club.
URL:https://www.ratpackricky.com/event/north-ranch-country-club-private-event-members/
LOCATION:North Ranch Country Club\, 91362
END:VEVENT
BEGIN:VEVENT
DTSTART;TZID=America/Los_Angeles:20170413T190000
DTEND;TZID=America/Los_Angeles:20170413T220000
DTSTAMP:20260422T090315
CREATED:20170404T054447Z
LAST-MODIFIED:20170404T054447Z
UID:609-1492110000-1492120800@www.ratpackricky.com
SUMMARY:Smoke House - Hello Burbank!
DESCRIPTION:How lucky am I to be booked at this historic restaurant twice in one month. I hope you can join me for one of three upcoming events in beautiful Burbank. I’ll be performing at the Smoke House on the 13th and the 20th of this month. I will also be participating in the historic Burbank Parade on the 29th of this month as well. Please drop by and say hello\, as I visit songs from the Great American Songbook\, Elvis\, Frankie Valle\, Ricky Nelson and much more. As always\, thank you for your well wishes and continued support. Remember\, without you\, none of this would be possible!
URL:https://www.ratpackricky.com/event/smoke-house-hello-burbank-2/
LOCATION:The Smoke House Restaurant\, 4420 Lakeside Dr\, Burbank\, CA\, 91505\, United States
END:VEVENT
BEGIN:VEVENT
DTSTART;TZID=America/Los_Angeles:20170414T190000
DTEND;TZID=America/Los_Angeles:20170414T220000
DTSTAMP:20260422T090315
CREATED:20170330T050206Z
LAST-MODIFIED:20170330T050206Z
UID:592-1492196400-1492207200@www.ratpackricky.com
SUMMARY:Zelda's 750 located at the City of Lancaster Performing Arts Center.
DESCRIPTION:I’ll be providing the entertainment at this beautifully designed lounge that has an old style “speakeasy” feel to it. I hope you’ll stop by and say hello\, while enjoying an adult beverage and hors d’ oeuvres’. I look forward to seeing you soon! Until then stay safe.
URL:https://www.ratpackricky.com/event/zeldas-750-located-city-lancaster-performing-arts-center/
LOCATION:Zelda’s 750 West\, 750 West Lancaster Blvd.\, Lancaster\, California \, 93534
END:VEVENT
BEGIN:VEVENT
DTSTART;TZID=America/Los_Angeles:20170415T180000
DTEND;TZID=America/Los_Angeles:20170415T210000
DTSTAMP:20260422T090315
CREATED:20170202T025712Z
LAST-MODIFIED:20170202T025712Z
UID:548-1492279200-1492290000@www.ratpackricky.com
SUMMARY:Gino's - Lancaster West - Lancaster City Market Place
DESCRIPTION:Come join me for my one night performance at this wonderful place. Gino’s serves some of the best Italian food in the Antelope Valley\, along with exceptional desserts! I hope you’ll stop by for an evening “Rat Pack” style.
URL:https://www.ratpackricky.com/event/ginos-lancaster-west-lancaster-city-market-place/
LOCATION:Gino’s Italian Restaurant\, 44960 Valley Central Way\, Lancaster\, CA\, 93536\, United States
END:VEVENT
BEGIN:VEVENT
DTSTART;TZID=America/Los_Angeles:20170420T190000
DTEND;TZID=America/Los_Angeles:20170420T220000
DTSTAMP:20260422T090315
CREATED:20170307T075155Z
LAST-MODIFIED:20170307T075155Z
UID:586-1492714800-1492725600@www.ratpackricky.com
SUMMARY:The Smoke House - Hello Burbank!
DESCRIPTION:Located across the street from Warner Bros. Studios. This historic landmark has been serving exquisite food and world famous garlic bread for decades. Please join me as I provide the entertainment where some of my hero’s regularly gathered.  Crooner’s such as the infamous “Rat Pack\,” along with Hollywood legends such as Bob Hope\, Bing Crosby\, Danny Kaye and Garry Marshall. They even have a dinner plate named after” Ole Blue Eyes” himself.
URL:https://www.ratpackricky.com/event/smoke-house-hello-burbank/
LOCATION:The Smoke House Restaurant\, 4420 Lakeside Dr\, Burbank\, CA\, 91505\, United States
END:VEVENT
BEGIN:VEVENT
DTSTART;TZID=America/Los_Angeles:20170422T183000
DTEND;TZID=America/Los_Angeles:20170422T203000
DTSTAMP:20260422T090315
CREATED:20170202T031747Z
LAST-MODIFIED:20170202T031747Z
UID:556-1492885800-1492893000@www.ratpackricky.com
SUMMARY:Athena's - Canyon Country!
DESCRIPTION:Greek and Mediterranean food\, need I say more! I’ll be providing the dinner entertainment for two hours only! It won’t be the same without you\, so if you’re free\, please stop by.
URL:https://www.ratpackricky.com/event/athenas-canyon-country-2/
LOCATION:Athena’s Greek Mediterranean Restaurant\, 18853 Soledad Canyon\, Canyon Country\, California \, 91351
END:VEVENT
BEGIN:VEVENT
DTSTART;TZID=America/Los_Angeles:20170429T110000
DTEND;TZID=America/Los_Angeles:20170429T150000
DTSTAMP:20260422T090315
CREATED:20170330T060226Z
LAST-MODIFIED:20170411T072137Z
UID:596-1493463600-1493478000@www.ratpackricky.com
SUMMARY:Burbank Parade! Please visit @burbankonparade which is the official Facebook page & burbankonparade.com for details!
DESCRIPTION:I truly hope you’ll consider joining me as I participate in this historic parade. I was humbly invited to be one of the many dignitaries at this years parade festivities. My father previously worked and participated at this parade for several years\, and I’m honored to follow in his footsteps. The parade starts at 11:00 AM and I’ll be riding in a vintage car performing some of my favorites. At the conclusion of the parade\, I’ll provide the entertainment at George Izay Park\, which is commonly known as Olive Park. Burbank has long been referred to as the “Entertainment Capital of the World.” If you can make it\, please stop by and say hello. Until then\, best wishes always!
URL:https://www.ratpackricky.com/event/burbank-parade-please-visit-burbankonparade-official-facebook-page-burbankonparade-com-info/
LOCATION:CA
END:VEVENT
BEGIN:VEVENT
DTSTART;TZID=America/Los_Angeles:20170429T183000
DTEND;TZID=America/Los_Angeles:20170429T203000
DTSTAMP:20260422T090315
CREATED:20170202T030913Z
LAST-MODIFIED:20170202T030913Z
UID:553-1493490600-1493497800@www.ratpackricky.com
SUMMARY:Athena's Canyon Country!
DESCRIPTION:Wow! Already the end of February! I hope you’ll stop by for dinner\, while I provide the music “Rat Pack Style.”
URL:https://www.ratpackricky.com/event/athenas-canyon-country/
LOCATION:Athena’s Greek Mediterranean Restaurant\, 18853 Soledad Canyon\, Canyon Country\, California \, 91351
END:VEVENT
END:VCALENDAR