BEGIN:VCALENDAR
VERSION:2.0
PRODID:-//Rat Pack Ricky Medlin - ECPv6.15.17//NONSGML v1.0//EN
CALSCALE:GREGORIAN
METHOD:PUBLISH
X-ORIGINAL-URL:https://www.ratpackricky.com
X-WR-CALDESC:Events for Rat Pack Ricky Medlin
REFRESH-INTERVAL;VALUE=DURATION:PT1H
X-Robots-Tag:noindex
X-PUBLISHED-TTL:PT1H
BEGIN:VTIMEZONE
TZID:America/Los_Angeles
BEGIN:DAYLIGHT
TZOFFSETFROM:-0800
TZOFFSETTO:-0700
TZNAME:PDT
DTSTART:20160313T100000
END:DAYLIGHT
BEGIN:STANDARD
TZOFFSETFROM:-0700
TZOFFSETTO:-0800
TZNAME:PST
DTSTART:20161106T090000
END:STANDARD
BEGIN:DAYLIGHT
TZOFFSETFROM:-0800
TZOFFSETTO:-0700
TZNAME:PDT
DTSTART:20170312T100000
END:DAYLIGHT
BEGIN:STANDARD
TZOFFSETFROM:-0700
TZOFFSETTO:-0800
TZNAME:PST
DTSTART:20171105T090000
END:STANDARD
BEGIN:DAYLIGHT
TZOFFSETFROM:-0800
TZOFFSETTO:-0700
TZNAME:PDT
DTSTART:20180311T100000
END:DAYLIGHT
BEGIN:STANDARD
TZOFFSETFROM:-0700
TZOFFSETTO:-0800
TZNAME:PST
DTSTART:20181104T090000
END:STANDARD
END:VTIMEZONE
BEGIN:VEVENT
DTSTART;TZID=America/Los_Angeles:20170603T183000
DTEND;TZID=America/Los_Angeles:20170603T213000
DTSTAMP:20260422T063909
CREATED:20170508T085354Z
LAST-MODIFIED:20170508T085354Z
UID:655-1496514600-1496525400@www.ratpackricky.com
SUMMARY:94th Aero Squadron (Appearance time change)
DESCRIPTION:I will be performing at this one of a kind venue from 6:30 – 9:30 PM. The purpose for the time change is to accommodate our more seasoned guest\, along with our friends who must bring their youngest of fans to this wonderful venue. I hope you’ll come out and join me while I perform music from the Great American Songbook and much more.  This restaurant is truly like no other. You’ll feel as though you’ve transplanted back in time to WWII Europe with military memorabilia everywhere.
URL:https://www.ratpackricky.com/event/94th-aero-squadron-appearance-time-change/
LOCATION:94th Aero Squadron\, 16320 Raymer Street\, Van Nuys\, CA\, 91406\, United States
END:VEVENT
BEGIN:VEVENT
DTSTART;TZID=America/Los_Angeles:20170609T190000
DTEND;TZID=America/Los_Angeles:20170609T220000
DTSTAMP:20260422T063909
CREATED:20170508T092302Z
LAST-MODIFIED:20170508T092302Z
UID:658-1497034800-1497045600@www.ratpackricky.com
SUMMARY:Pour D' Vino - On the Lancaster Boulevard
DESCRIPTION:Let’s kick off the Mother’s Day weekend right at this incredibly quaint venue. They have an amazing selection of the finest wines and a delicious food menu as well. They also offer an outside patio to accommodate wine connoisseurs who like to enjoy a fine cigar or pipe with their favorite Bordeaux.  I hope you can join me as I perform songs from music icons such as Frank Sinatra\, Dean Martin\, Tony Bennet and many more.  Until next time\, may you take time to count your blessings.
URL:https://www.ratpackricky.com/event/pour-d-vino-lancaster-boulevard/
LOCATION:Pour D’ Vino\, 741 W. Lancaster Blvd.\, Lancaster\, California \, 93534
END:VEVENT
BEGIN:VEVENT
DTSTART;TZID=America/Los_Angeles:20170610T193000
DTEND;TZID=America/Los_Angeles:20170610T223000
DTSTAMP:20260422T063909
CREATED:20170528T080258Z
LAST-MODIFIED:20170528T080258Z
UID:723-1497123000-1497133800@www.ratpackricky.com
SUMMARY:Kinentic Brewing Company located on Lancaster Blvd.
DESCRIPTION:I’m honored to provide the entertainment at this wonderful Brewery. Please consider spending the evening with me\, as I perform here for the very first time. They have an awesome selection of adult beverages and a pretty descent menu as well.  I hope you’ll join me\, as it won’t be the same without each of you.
URL:https://www.ratpackricky.com/event/kinentic-brewing-company-located-lancaster-blvd/
LOCATION:Kinetic Brewery\, 735 West Lancaster Blvd.\, Lancaster\, CA\, United States
END:VEVENT
BEGIN:VEVENT
DTSTART;TZID=America/Los_Angeles:20170616T190000
DTEND;TZID=America/Los_Angeles:20170616T210000
DTSTAMP:20260422T063909
CREATED:20170520T034902Z
LAST-MODIFIED:20170611T075421Z
UID:717-1497639600-1497646800@www.ratpackricky.com
SUMMARY:Birdie's - Palmdale
DESCRIPTION:Okay all you golf enthusiast\, Dad\, come on out to birdies and bring your clubs\, hit a few balls\, and enjoy dinner and adult beverages while I provide the entertainment. I hope you’ll join me.
URL:https://www.ratpackricky.com/event/birdies-palmdale/
LOCATION:Birdie’s\, 41520 10th Street West\, Lancaster\, California \, 93534
END:VEVENT
BEGIN:VEVENT
DTSTART;TZID=America/Los_Angeles:20170617T180000
DTEND;TZID=America/Los_Angeles:20170617T210000
DTSTAMP:20260422T063909
CREATED:20170508T093008Z
LAST-MODIFIED:20170508T093008Z
UID:663-1497722400-1497733200@www.ratpackricky.com
SUMMARY:Gino's Italian Restaurant in the Lancaster Market City Place
DESCRIPTION:I’m blessed to perform at this wonderful venue. I hope that you’ll stop by and join me as I visit songs from the Great American Songbook and many more.  Until then\, may the wind always be at your back.
URL:https://www.ratpackricky.com/event/ginos-italian-restaurant-lancaster-market-city-place/
LOCATION:Gino’s Italian Restaurant\, 44960 Valley Central Way\, Lancaster\, CA\, 93536\, United States
END:VEVENT
BEGIN:VEVENT
DTSTART;TZID=America/Los_Angeles:20170624T193000
DTEND;TZID=America/Los_Angeles:20170624T223000
DTSTAMP:20260422T063909
CREATED:20170508T094329Z
LAST-MODIFIED:20170616T225427Z
UID:668-1498332600-1498343400@www.ratpackricky.com
SUMMARY:Zelda's 750 is part of the Lancaster Performing Arts Center.  (New appearance times)
DESCRIPTION:I’ll be performing at this spectacular venue. The ambiance is truly stunning\, with an almost speakeasy feel to it. Come by and have a bite to eat\, along with some truly amazing drinks\, as I provide the evenings entertainment. I hope to see you there.
URL:https://www.ratpackricky.com/event/private-event-westlake-village-2/
LOCATION:Zelda’s 750 West\, 750 West Lancaster Blvd.\, Lancaster\, California \, 93534
END:VEVENT
BEGIN:VEVENT
DTSTART;TZID=America/Los_Angeles:20170630T190000
DTEND;TZID=America/Los_Angeles:20170630T220000
DTSTAMP:20260422T063909
CREATED:20170508T093727Z
LAST-MODIFIED:20170508T093727Z
UID:665-1498849200-1498860000@www.ratpackricky.com
SUMMARY:Pour D' Vino on the Lancaster Blvd.
DESCRIPTION:Yep\, twice in one month at this incredible venue. I hope that you can stop by and help me and the wonderful staff of this awesome venue sing the classics from Elvis\, Dion\, Ricky Nelson\, and Frankie Valle just to mention a few. Remember – if you’re celebrating a special event be sure to let me know so that we can recognize your special guest Pour D’ Vino style! Until then\, may you continue to reach for the stars.
URL:https://www.ratpackricky.com/event/pour-d-vino-lancaster-blvd-2/
LOCATION:Pour D’ Vino\, 741 W. Lancaster Blvd.\, Lancaster\, California \, 93534
END:VEVENT
END:VCALENDAR