BEGIN:VCALENDAR
VERSION:2.0
PRODID:-//Rat Pack Ricky Medlin - ECPv6.15.17//NONSGML v1.0//EN
CALSCALE:GREGORIAN
METHOD:PUBLISH
X-WR-CALNAME:Rat Pack Ricky Medlin
X-ORIGINAL-URL:https://www.ratpackricky.com
X-WR-CALDESC:Events for Rat Pack Ricky Medlin
REFRESH-INTERVAL;VALUE=DURATION:PT1H
X-Robots-Tag:noindex
X-PUBLISHED-TTL:PT1H
BEGIN:VTIMEZONE
TZID:America/Los_Angeles
BEGIN:DAYLIGHT
TZOFFSETFROM:-0800
TZOFFSETTO:-0700
TZNAME:PDT
DTSTART:20160313T100000
END:DAYLIGHT
BEGIN:STANDARD
TZOFFSETFROM:-0700
TZOFFSETTO:-0800
TZNAME:PST
DTSTART:20161106T090000
END:STANDARD
BEGIN:DAYLIGHT
TZOFFSETFROM:-0800
TZOFFSETTO:-0700
TZNAME:PDT
DTSTART:20170312T100000
END:DAYLIGHT
BEGIN:STANDARD
TZOFFSETFROM:-0700
TZOFFSETTO:-0800
TZNAME:PST
DTSTART:20171105T090000
END:STANDARD
BEGIN:DAYLIGHT
TZOFFSETFROM:-0800
TZOFFSETTO:-0700
TZNAME:PDT
DTSTART:20180311T100000
END:DAYLIGHT
BEGIN:STANDARD
TZOFFSETFROM:-0700
TZOFFSETTO:-0800
TZNAME:PST
DTSTART:20181104T090000
END:STANDARD
END:VTIMEZONE
BEGIN:VEVENT
DTSTART;TZID=America/Los_Angeles:20170701T183000
DTEND;TZID=America/Los_Angeles:20170701T213000
DTSTAMP:20260422T051944
CREATED:20170508T100234Z
LAST-MODIFIED:20170508T100234Z
UID:671-1498933800-1498944600@www.ratpackricky.com
SUMMARY:94th Aero Squadron - Van Nuys Airport (Checkout my new appearance hours)
DESCRIPTION:Come fly with me to this one of a kind restaurant that will surely have you believing you’ve gone back to WWII Europe. With it’s military memorabilia\, and buildings that have been constructed to appear as though they’ve received a direct hit. You can also enjoy watching the planes takeoff and land from their outdoor patio\, which sports several outdoor fire pits.  I’ll be providing the entertainment in the bar\, and hope you’ll consider joining me for an evening of music Rat Pack Style! Don’t forget the new appearance hours. Until then\, may all your dreams come true.
URL:https://www.ratpackricky.com/event/94th-aero-squadron-van-nuys-airport-checkout-new-appearance-hours/
LOCATION:94th Aero Squadron\, 16320 Raymer Street\, Van Nuys\, CA\, 91406\, United States
END:VEVENT
BEGIN:VEVENT
DTSTART;TZID=America/Los_Angeles:20170713T190000
DTEND;TZID=America/Los_Angeles:20170713T220000
DTSTAMP:20260422T051944
CREATED:20170508T220749Z
LAST-MODIFIED:20170712T191432Z
UID:680-1499972400-1499983200@www.ratpackricky.com
SUMMARY:The Smoke House (Burbank)
DESCRIPTION:Hello Burbank! I’m truly honored to perform at this historic venue. Originally built by actor\, singer\, dancer\, and comedian Danny Kaye. This venue has hosted every iconic performer at one time or another. Please join me for some of their world famous garlic bread; or my favorite dish: the “Steak Sinatra\,” which I’m told was a favorite of Mr. Sinatra’s.  Hope you’ll stop by and say hello!
URL:https://www.ratpackricky.com/event/the-smoke-house-2/
LOCATION:The Smoke House Restaurant\, 4420 Lakeside Dr\, Burbank\, CA\, 91505\, United States
END:VEVENT
BEGIN:VEVENT
DTSTART;TZID=America/Los_Angeles:20170715T150000
DTEND;TZID=America/Los_Angeles:20170715T160000
DTSTAMP:20260422T051944
CREATED:20170712T193203Z
LAST-MODIFIED:20170712T193203Z
UID:776-1500130800-1500134400@www.ratpackricky.com
SUMMARY:Honoring the life of Sergeant Steve Owen - Steve Owen Park - Lancaster
DESCRIPTION:I’m honored to have been asked to open the entertainment for this special event by none other than “The Bullfrog” – Mr. Neil Werner. This will be a full day of festivities beginning with a ride from Lancaster Harley Davidson and culminating at Steve Owen Park. There will be food and live music starting at 3 PM. As most of you may know\, my father retired after 32 years in law enforcement and this benefit is near and dear to my heart. Please come by and honor the wonderful life of our local hero Sergeant Steve Owen.
URL:https://www.ratpackricky.com/event/honoring-life-sergeant-steve-owen-steve-owen-park-lancaster/
LOCATION:Steve Owen Park\, 43063 N 10th St West\, Lancaster\, 93534\, United States
END:VEVENT
BEGIN:VEVENT
DTSTART;TZID=America/Los_Angeles:20170715T180000
DTEND;TZID=America/Los_Angeles:20170715T210000
DTSTAMP:20260422T051944
CREATED:20170508T100859Z
LAST-MODIFIED:20170508T100859Z
UID:675-1500141600-1500152400@www.ratpackricky.com
SUMMARY:Gino's - in the Lancaster City Market Place
DESCRIPTION:Please stop by and say hello\, as I have the privilege of providing the entertainment at this family friendly restaurant. The great staff and owners will make you feel right at home. Until then\, dream big!
URL:https://www.ratpackricky.com/event/ginos-lancaster-city-market-place/
LOCATION:Gino’s Italian Restaurant\, 44960 Valley Central Way\, Lancaster\, CA\, 93536\, United States
END:VEVENT
BEGIN:VEVENT
DTSTART;TZID=America/Los_Angeles:20170721T180000
DTEND;TZID=America/Los_Angeles:20170721T210000
DTSTAMP:20260422T051944
CREATED:20170703T070434Z
LAST-MODIFIED:20170703T070434Z
UID:765-1500660000-1500670800@www.ratpackricky.com
SUMMARY:The Smoke House - Burbank  (Adjusted Hours for the special summer entertainment series)
DESCRIPTION:Wow! I’m blessed to be asked to make a second appearance in the same month at this historic restaurant; however\, I’ll be performing on the outdoor patio for their recently launched summer entertainment schedule.  Please consider stopping by and enjoying some of their famous garlic bread and your favorite glass of whatever. I hope you’ll join me.
URL:https://www.ratpackricky.com/event/smoke-house-burbank-adjusted-hours-special-summer-entertainment-series/
LOCATION:The Smoke House Restaurant\, 4420 Lakeside Dr\, Burbank\, CA\, 91505\, United States
END:VEVENT
BEGIN:VEVENT
DTSTART;TZID=America/Los_Angeles:20170722T180000
DTEND;TZID=America/Los_Angeles:20170722T210000
DTSTAMP:20260422T051944
CREATED:20170508T101707Z
LAST-MODIFIED:20170719T073847Z
UID:677-1500746400-1500757200@www.ratpackricky.com
SUMMARY:Private Event - Saddlerock Ranch - Malibu
DESCRIPTION:Honored to perform at such a wonderful venue.
URL:https://www.ratpackricky.com/event/private-event-kovner-wedding/
LOCATION:TBA\, 94203
END:VEVENT
BEGIN:VEVENT
DTSTART;TZID=America/Los_Angeles:20170729T200000
DTEND;TZID=America/Los_Angeles:20170729T230000
DTSTAMP:20260422T051944
CREATED:20170717T021008Z
LAST-MODIFIED:20170717T021008Z
UID:798-1501358400-1501369200@www.ratpackricky.com
SUMMARY:Zelda's (New Hours)
DESCRIPTION:I hope you’ll join me for an evening under the stars at this wonderful venue. As you know\, it’s each of you that make the night so magical.
URL:https://www.ratpackricky.com/event/zeldas-new-hours/
LOCATION:CA
END:VEVENT
END:VCALENDAR