BEGIN:VCALENDAR
VERSION:2.0
PRODID:-//Rat Pack Ricky Medlin - ECPv6.15.17//NONSGML v1.0//EN
CALSCALE:GREGORIAN
METHOD:PUBLISH
X-ORIGINAL-URL:https://www.ratpackricky.com
X-WR-CALDESC:Events for Rat Pack Ricky Medlin
REFRESH-INTERVAL;VALUE=DURATION:PT1H
X-Robots-Tag:noindex
X-PUBLISHED-TTL:PT1H
BEGIN:VTIMEZONE
TZID:America/Los_Angeles
BEGIN:DAYLIGHT
TZOFFSETFROM:-0800
TZOFFSETTO:-0700
TZNAME:PDT
DTSTART:20160313T100000
END:DAYLIGHT
BEGIN:STANDARD
TZOFFSETFROM:-0700
TZOFFSETTO:-0800
TZNAME:PST
DTSTART:20161106T090000
END:STANDARD
BEGIN:DAYLIGHT
TZOFFSETFROM:-0800
TZOFFSETTO:-0700
TZNAME:PDT
DTSTART:20170312T100000
END:DAYLIGHT
BEGIN:STANDARD
TZOFFSETFROM:-0700
TZOFFSETTO:-0800
TZNAME:PST
DTSTART:20171105T090000
END:STANDARD
BEGIN:DAYLIGHT
TZOFFSETFROM:-0800
TZOFFSETTO:-0700
TZNAME:PDT
DTSTART:20180311T100000
END:DAYLIGHT
BEGIN:STANDARD
TZOFFSETFROM:-0700
TZOFFSETTO:-0800
TZNAME:PST
DTSTART:20181104T090000
END:STANDARD
END:VTIMEZONE
BEGIN:VEVENT
DTSTART;TZID=America/Los_Angeles:20170803T153000
DTEND;TZID=America/Los_Angeles:20170803T163000
DTSTAMP:20260422T040202
CREATED:20170712T193552Z
LAST-MODIFIED:20170717T023519Z
UID:780-1501774200-1501777800@www.ratpackricky.com
SUMMARY:Belmont Village - Burbank  (Private Event)
DESCRIPTION:Honored to play a private event for these wonderful folks.
URL:https://www.ratpackricky.com/event/belmont-village-burbank-private-event-residents/
LOCATION:CA
END:VEVENT
BEGIN:VEVENT
DTSTART;TZID=America/Los_Angeles:20170805T183000
DTEND;TZID=America/Los_Angeles:20170805T213000
DTSTAMP:20260422T040202
CREATED:20170707T084913Z
LAST-MODIFIED:20170707T090403Z
UID:768-1501957800-1501968600@www.ratpackricky.com
SUMMARY:94th Aero Squadron - Adjacent to the Van Nuys Airport
DESCRIPTION:I’ll be performing at this truly one of a kind venue. The ambiance of this wonderful restaurant truly makes you feel as though you’ve been transported back to WWII Europe\, with military memorabilia throughout. The patio provides access to nearby runways as you observe private jets\, helicopters and other planes take off and land. I hope you’ll consider joining me\, as it won’t be the same without you.
URL:https://www.ratpackricky.com/event/94th-aero-squadron-adjacent-van-nuys-airport/
LOCATION:94th Aero Squadron\, 16320 Raymer Street\, Van Nuys\, CA\, 91406\, United States
END:VEVENT
BEGIN:VEVENT
DTSTART;TZID=America/Los_Angeles:20170810T190000
DTEND;TZID=America/Los_Angeles:20170810T220000
DTSTAMP:20260422T040202
CREATED:20170707T090330Z
LAST-MODIFIED:20170707T090330Z
UID:771-1502391600-1502402400@www.ratpackricky.com
SUMMARY:The Smoke House - Burbank!
DESCRIPTION:I’m truly blessed to perform at such a historic venue. This restaurant was built around WWII by one of my all time favorite actors\, Mr. Danny Kaye. I hope you’ll stop by and enjoy my favorite dish the “steak Sinatra\,” along with their world famous garlic bread.
URL:https://www.ratpackricky.com/event/smoke-house-burbank-3/
LOCATION:The Smoke House Restaurant\, 4420 Lakeside Dr\, Burbank\, CA\, 91505\, United States
END:VEVENT
BEGIN:VEVENT
DTSTART;TZID=America/Los_Angeles:20170812T200000
DTEND;TZID=America/Los_Angeles:20170812T230000
DTSTAMP:20260422T040202
CREATED:20170717T021824Z
LAST-MODIFIED:20170717T021824Z
UID:800-1502568000-1502578800@www.ratpackricky.com
SUMMARY:Zelda's (New Hours)
DESCRIPTION:If you’re free\, please consider stopping by to help me celebrate our blessings under the high desert stars. This exceptional venue has great food and drinks. I hope to see you soon!
URL:https://www.ratpackricky.com/event/zeldas-new-hours-2/
LOCATION:CA
END:VEVENT
BEGIN:VEVENT
DTSTART;TZID=America/Los_Angeles:20170819T180000
DTEND;TZID=America/Los_Angeles:20170819T210000
DTSTAMP:20260422T040202
CREATED:20170712T201802Z
LAST-MODIFIED:20170712T201802Z
UID:784-1503165600-1503176400@www.ratpackricky.com
SUMMARY:Gino's (Lancaster Market Place)
DESCRIPTION:I’ll be performing at this wonderful family owned Italian Restaurant. Good food – Good service – and of course; I’ll be there performing some new music that I’ve been working on. I hope you’ll stop by and say hello.
URL:https://www.ratpackricky.com/event/ginos-lancaster-market-place/
LOCATION:Gino’s Italian Restaurant\, 44960 Valley Central Way\, Lancaster\, CA\, 93536\, United States
END:VEVENT
BEGIN:VEVENT
DTSTART;TZID=America/Los_Angeles:20170821T140000
DTEND;TZID=America/Los_Angeles:20170821T160000
DTSTAMP:20260422T040202
CREATED:20170712T203951Z
LAST-MODIFIED:20170818T055831Z
UID:786-1503324000-1503331200@www.ratpackricky.com
SUMMARY:The Antelope Valley Fair!  Honoring our Senior Citizens & Special Needs Communities - The Corona Stage
DESCRIPTION:Hi everyone\, I’m pleased to announce that I’ll be performing at the Antelope Valley Fair for a special day honoring our Senior’s and Special Needs communities. Be sure to bring your hat\, sunscreen\, and plenty of fluid. It’s August in the high desert! I hope you’ll stop by and say hello\, as I give out my latest CD to my wonderful guest.
URL:https://www.ratpackricky.com/event/antelope-valley-fair-vallarta-stage/
LOCATION:Antelope Valley Fair Grounds\, 2551 West Avenue H\, Lancaster\, California\, 93536
END:VEVENT
BEGIN:VEVENT
DTSTART;TZID=America/Los_Angeles:20170824T203000
DTEND;TZID=America/Los_Angeles:20170824T223000
DTSTAMP:20260422T040202
CREATED:20170712T204737Z
LAST-MODIFIED:20170712T204737Z
UID:792-1503606600-1503613800@www.ratpackricky.com
SUMMARY:The Antelope Valley Fair - Military Appreciation Night! The Oasis Stage.
DESCRIPTION:I’m honored to perform a special show honoring those who sacrifice so much for our freedoms – our military and their amazing families. Please stop by and help us salute these wonderful heroes!
URL:https://www.ratpackricky.com/event/antelope-valley-fair-military-appreciation-night-oasis-stage/
LOCATION:Antelope Valley Fair Grounds\, 2551 West Avenue H\, Lancaster\, California\, 93536
END:VEVENT
BEGIN:VEVENT
DTSTART;TZID=America/Los_Angeles:20170825T200000
DTEND;TZID=America/Los_Angeles:20170825T230000
DTSTAMP:20260422T040202
CREATED:20170717T022955Z
LAST-MODIFIED:20170717T023112Z
UID:803-1503691200-1503702000@www.ratpackricky.com
SUMMARY:Zelda's (New Hours)
DESCRIPTION:I’m blessed to perform at this wonderful venue under an evening canopy of stars. Please stop by and enjoy good food and adult beverages on this truly spectacular patio. The architecture might make you feel as though you’ve travelled to an exclusive venue in Las Vegas\, with pillars of fire atop a wall of water. You have to experience it to believe it. This venue is adjacent to the Lancaster Performing Arts Center. Won’t you join me?
URL:https://www.ratpackricky.com/event/zeldas-new-hours-3/
LOCATION:Zelda’s 750 West\, 750 West Lancaster Blvd.\, Lancaster\, California \, 93534
END:VEVENT
BEGIN:VEVENT
DTSTART;TZID=America/Los_Angeles:20170826T100000
DTEND;TZID=America/Los_Angeles:20170826T150000
DTSTAMP:20260422T040202
CREATED:20170806T092605Z
LAST-MODIFIED:20170806T092605Z
UID:812-1503741600-1503759600@www.ratpackricky.com
SUMMARY:Anheuser Busch - Clydesdales' and Vintage Car Show benefiting "Folds of Honor"
DESCRIPTION:This event is still in the planning stages; however\, I’m honored to appear on behalf of Anheuser Busch to benefit the military charity organization “Folds of Honor.” “Folds of Honor” provide college scholarships to the children of service members who paid the ultimate sacrifice on behalf of this nation. I truly hope that you’ll come join me as I perform our National Anthem and then provide a portion of the musical entertainment for this wonderful event. I’ve been told there will be an appearance by the majestic Budweiser Clydesdales\,’ along with some amazing vintage cars.  What’s more American than that? Your support of “Folds of Honor” is truly appreciated and humbling.
URL:https://www.ratpackricky.com/event/anheuser-busch-clydesdales-vintage-car-show-benefiting-folds-honor/
LOCATION:TBA\, 94203
END:VEVENT
END:VCALENDAR