BEGIN:VCALENDAR
VERSION:2.0
PRODID:-//Rat Pack Ricky Medlin - ECPv6.15.17//NONSGML v1.0//EN
CALSCALE:GREGORIAN
METHOD:PUBLISH
X-WR-CALNAME:Rat Pack Ricky Medlin
X-ORIGINAL-URL:https://www.ratpackricky.com
X-WR-CALDESC:Events for Rat Pack Ricky Medlin
REFRESH-INTERVAL;VALUE=DURATION:PT1H
X-Robots-Tag:noindex
X-PUBLISHED-TTL:PT1H
BEGIN:VTIMEZONE
TZID:America/Los_Angeles
BEGIN:DAYLIGHT
TZOFFSETFROM:-0800
TZOFFSETTO:-0700
TZNAME:PDT
DTSTART:20160313T100000
END:DAYLIGHT
BEGIN:STANDARD
TZOFFSETFROM:-0700
TZOFFSETTO:-0800
TZNAME:PST
DTSTART:20161106T090000
END:STANDARD
BEGIN:DAYLIGHT
TZOFFSETFROM:-0800
TZOFFSETTO:-0700
TZNAME:PDT
DTSTART:20170312T100000
END:DAYLIGHT
BEGIN:STANDARD
TZOFFSETFROM:-0700
TZOFFSETTO:-0800
TZNAME:PST
DTSTART:20171105T090000
END:STANDARD
BEGIN:DAYLIGHT
TZOFFSETFROM:-0800
TZOFFSETTO:-0700
TZNAME:PDT
DTSTART:20180311T100000
END:DAYLIGHT
BEGIN:STANDARD
TZOFFSETFROM:-0700
TZOFFSETTO:-0800
TZNAME:PST
DTSTART:20181104T090000
END:STANDARD
END:VTIMEZONE
BEGIN:VEVENT
DTSTART;TZID=America/Los_Angeles:20171006T200000
DTEND;TZID=America/Los_Angeles:20171006T230000
DTSTAMP:20260422T013152
CREATED:20170909T082445Z
LAST-MODIFIED:20170909T082445Z
UID:877-1507320000-1507330800@www.ratpackricky.com
SUMMARY:Zelda's - LPAC Lancaster Blvd.
DESCRIPTION:It took this one of a kind venue a little bit to take flight\, but what an awesome place it’s become. If you’ve been\, welcome back\, if you’ve never been\, please come and join me for an evening of entertainment under the stars. Zelda’s has added an all new menu\, which has received rave reviews\, along with a drink menu that has something for everyone. Remember\, it won’t be the same without each of you!
URL:https://www.ratpackricky.com/event/zeldas-lpac-lancaster-blvd/
LOCATION:Zelda’s 750 West\, 750 West Lancaster Blvd.\, Lancaster\, California \, 93534
END:VEVENT
BEGIN:VEVENT
DTSTART;TZID=America/Los_Angeles:20171007T113000
DTEND;TZID=America/Los_Angeles:20171007T133000
DTSTAMP:20260422T013152
CREATED:20170909T085938Z
LAST-MODIFIED:20170909T085938Z
UID:880-1507375800-1507383000@www.ratpackricky.com
SUMMARY:Breast Cancer Awareness - Charity Event - Hilton Garden Inn - Palmdale
DESCRIPTION:Yep\, it’s that time of year again when we pause to celebrate those who’ve faced this frightening health challenge and beat it! And to reflect and honor those whom this disease stole from us. Please join me and open your hearts and generosity as we  help find a cure for this dreaded disease. This event is near and dear to my heart\, as my Grandmother faced this very challenge and beat it. I’ll provide the entertainment\, while each of you bid for some impressive gifts\, along with other treasures. I hope to see you there.
URL:https://www.ratpackricky.com/event/breast-cancer-awareness-charity-event-hilton-garden-inn-palmdale/
LOCATION:Hilton Garden Inn\, 1309 West Rancho Vista Blvd.\, Palmdale\, California\, 93551
END:VEVENT
BEGIN:VEVENT
DTSTART;TZID=America/Los_Angeles:20171008T100000
DTEND;TZID=America/Los_Angeles:20171008T150000
DTSTAMP:20260422T013152
CREATED:20170914T080607Z
LAST-MODIFIED:20170914T080607Z
UID:908-1507456800-1507474800@www.ratpackricky.com
SUMMARY:Please join me as we salute the four legged members of our family at "Bark in the Park"
DESCRIPTION:What an honor it is to provide the entertainment at his years event\, which will be held at Sergeant Steve Owen Memorial Park. There will be plenty of booths\, displays\, and demonstrations throughout the day. Bring your four legged friends to enjoy a fun filled day celebrating them. For schedules and details of events\, please visit Bark in the Park\, Lancaster\, Ca. I hope you’ll consider stopping by and saying hello at my booth ‘Rat Pack Ricky.”
URL:https://www.ratpackricky.com/event/please-join-salute-four-legged-members-family-bark-park/
LOCATION:Bark in the Park\, 43063 N 10th St West\, Lancaster\, California\, 93534
END:VEVENT
BEGIN:VEVENT
DTSTART;TZID=America/Los_Angeles:20171013T180000
DTEND;TZID=America/Los_Angeles:20171013T220000
DTSTAMP:20260422T013152
CREATED:20170909T094510Z
LAST-MODIFIED:20171003T000800Z
UID:889-1507917600-1507932000@www.ratpackricky.com
SUMMARY:Edward's Air Force Base - Private Event Honoring the 70th Anniversary of Supersonic Flight & Air Force Birthday Ball
DESCRIPTION:I’m honored beyond words to have been asked to provide the entertainment for this historic event. These incredibly brave men climbed into experimental aircraft in an effort to push the limits to ensure that our air force were flying the most capable military jets on the planet.
URL:https://www.ratpackricky.com/event/edwards-air-force-base-private-event-honor-colonel-william-j-pete-knight/
LOCATION:Edward’s Air Force Base\, 305 E. Popson Avenue\, Edward's Air Force Base\, California\, 93524
END:VEVENT
BEGIN:VEVENT
DTSTART;TZID=America/Los_Angeles:20171014T190000
DTEND;TZID=America/Los_Angeles:20171014T230000
DTSTAMP:20260422T013152
CREATED:20170909T095134Z
LAST-MODIFIED:20170909T195929Z
UID:895-1508007600-1508022000@www.ratpackricky.com
SUMMARY:The Historic Cicada Club - Downtown Los Angeles - A salute to Mr. Bing Crosby
DESCRIPTION:I’m honored to be a small part of this incredible tribute to one of my favorite singers of all time\, Mr. Bing Crosby. Thank you Mr. Holiday for allowing me to be part of this memorable event!
URL:https://www.ratpackricky.com/event/historic-cicada-club-downtown-los-angeles-salute-mr-bing-crosby/
LOCATION:Cicada Club\, 617 South Olive Street\, Los Angeles\, CA\,  90014\, United States
END:VEVENT
BEGIN:VEVENT
DTSTART;TZID=America/Los_Angeles:20171016T120000
DTEND;TZID=America/Los_Angeles:20171016T210000
DTSTAMP:20260422T013152
CREATED:20171016T091049Z
LAST-MODIFIED:20171016T091049Z
UID:947-1508155200-1508187600@www.ratpackricky.com
SUMMARY:Assist with a music video with my good friend Jessie Fulco - Burbank
DESCRIPTION:
URL:https://www.ratpackricky.com/event/assist-music-video-good-friend-jessie-fulco-burbank/
LOCATION:CA
END:VEVENT
BEGIN:VEVENT
DTSTART;TZID=America/Los_Angeles:20171019T190000
DTEND;TZID=America/Los_Angeles:20171019T220000
DTSTAMP:20260422T013152
CREATED:20170909T201119Z
LAST-MODIFIED:20170909T201119Z
UID:898-1508439600-1508450400@www.ratpackricky.com
SUMMARY:The Smoke House - Hello Burbank!
DESCRIPTION:Please come and join me if you’re in the Burbank area and want to see what old Hollywood royalty looks like. This one of a kind venue has hosted some of Hollywood’s most memorable icons and their pictures grace the walls. If you’ve been\, welcomed back\, if you’ve never been\, you got to see this place. And as an added bonus\, I’ll be entertaining you with music from the Great American Songbook and much more. Remember\, without each of you\, it’s not the same.
URL:https://www.ratpackricky.com/event/smoke-house-hello-burbank-3/
LOCATION:The Smoke House Restaurant\, 4420 Lakeside Dr\, Burbank\, CA\, 91505\, United States
END:VEVENT
BEGIN:VEVENT
DTSTART;TZID=America/Los_Angeles:20171020T190000
DTEND;TZID=America/Los_Angeles:20171020T220000
DTSTAMP:20260422T013152
CREATED:20170909T210639Z
LAST-MODIFIED:20170921T230903Z
UID:901-1508526000-1508536800@www.ratpackricky.com
SUMMARY:Zelda's - LPAC  (Lancaster Performing Arts)
DESCRIPTION:Please join me for an evening under the high desert skies. This place is simply amazing. The City of Lancaster spared no expense to add this gem as part of the Lancaster Performing Arts. It has the look and feel of Las Vegas. Please come and join me as we share memories and some of the greatest music ever recorded. I hope to see you there.
URL:https://www.ratpackricky.com/event/zeldas-lpac-remodeled-downtown-lancaster/
LOCATION:Zelda’s 750 West\, 750 West Lancaster Blvd.\, Lancaster\, California \, 93534
END:VEVENT
BEGIN:VEVENT
DTSTART;TZID=America/Los_Angeles:20171021T180000
DTEND;TZID=America/Los_Angeles:20171021T210000
DTSTAMP:20260422T013152
CREATED:20170909T211405Z
LAST-MODIFIED:20170909T211405Z
UID:904-1508608800-1508619600@www.ratpackricky.com
SUMMARY:Gino's - Market City Place - located near the JetHawks Stadium
DESCRIPTION:Gino’s is a family owned business with private banquet rooms throughout. The food and drinks are awesome\, and I get the opportunity to perform the evenings entertainment to some wonderful guest. Please join me as I perform songs from Frank\, Dean\, Ricky Nelson\, Dion and many more. I hope to see you there.
URL:https://www.ratpackricky.com/event/ginos-market-city-place-located-near-jethawks-stadium/
LOCATION:Gino’s Italian Restaurant\, 44960 Valley Central Way\, Lancaster\, CA\, 93536\, United States
END:VEVENT
BEGIN:VEVENT
DTSTART;TZID=America/Los_Angeles:20171024T130000
DTEND;TZID=America/Los_Angeles:20171024T170000
DTSTAMP:20260422T013152
CREATED:20171014T082315Z
LAST-MODIFIED:20171014T082315Z
UID:936-1508850000-1508864400@www.ratpackricky.com
SUMMARY:Recording Studio - Burbank
DESCRIPTION:Some finishing touches to my Christmas CD\, which will be ready November 1st. Wish me luck!
URL:https://www.ratpackricky.com/event/recording-studio-burbank-2/
LOCATION:CA
END:VEVENT
BEGIN:VEVENT
DTSTART;TZID=America/Los_Angeles:20171026T130000
DTEND;TZID=America/Los_Angeles:20171026T140000
DTSTAMP:20260422T013152
CREATED:20171014T083409Z
LAST-MODIFIED:20171014T083409Z
UID:939-1509022800-1509026400@www.ratpackricky.com
SUMMARY:Sage Academy
DESCRIPTION:I was asked if I would speak to a group of students about a subject that I’m very passionate about\, bullying. I hope that my words will touch those most needing it. Extremely honored to be part of a worthwhile and important subject.
URL:https://www.ratpackricky.com/event/sage-academy/
LOCATION:Sage Academy\, 38360 20th Street East\, Palmdale\, California\, 93550
END:VEVENT
END:VCALENDAR