BEGIN:VCALENDAR
VERSION:2.0
PRODID:-//Rat Pack Ricky Medlin - ECPv6.15.17//NONSGML v1.0//EN
CALSCALE:GREGORIAN
METHOD:PUBLISH
X-WR-CALNAME:Rat Pack Ricky Medlin
X-ORIGINAL-URL:https://www.ratpackricky.com
X-WR-CALDESC:Events for Rat Pack Ricky Medlin
REFRESH-INTERVAL;VALUE=DURATION:PT1H
X-Robots-Tag:noindex
X-PUBLISHED-TTL:PT1H
BEGIN:VTIMEZONE
TZID:America/Los_Angeles
BEGIN:DAYLIGHT
TZOFFSETFROM:-0800
TZOFFSETTO:-0700
TZNAME:PDT
DTSTART:20160313T100000
END:DAYLIGHT
BEGIN:STANDARD
TZOFFSETFROM:-0700
TZOFFSETTO:-0800
TZNAME:PST
DTSTART:20161106T090000
END:STANDARD
BEGIN:DAYLIGHT
TZOFFSETFROM:-0800
TZOFFSETTO:-0700
TZNAME:PDT
DTSTART:20170312T100000
END:DAYLIGHT
BEGIN:STANDARD
TZOFFSETFROM:-0700
TZOFFSETTO:-0800
TZNAME:PST
DTSTART:20171105T090000
END:STANDARD
BEGIN:DAYLIGHT
TZOFFSETFROM:-0800
TZOFFSETTO:-0700
TZNAME:PDT
DTSTART:20180311T100000
END:DAYLIGHT
BEGIN:STANDARD
TZOFFSETFROM:-0700
TZOFFSETTO:-0800
TZNAME:PST
DTSTART:20181104T090000
END:STANDARD
BEGIN:DAYLIGHT
TZOFFSETFROM:-0800
TZOFFSETTO:-0700
TZNAME:PDT
DTSTART:20190310T100000
END:DAYLIGHT
BEGIN:STANDARD
TZOFFSETFROM:-0700
TZOFFSETTO:-0800
TZNAME:PST
DTSTART:20191103T090000
END:STANDARD
END:VTIMEZONE
BEGIN:VEVENT
DTSTART;TZID=America/Los_Angeles:20171231T190000
DTEND;TZID=America/Los_Angeles:20180101T010000
DTSTAMP:20260421T214933
CREATED:20171115T030926Z
LAST-MODIFIED:20171115T030926Z
UID:1038-1514746800-1514768400@www.ratpackricky.com
SUMMARY:New Years Eve Party at Gino's in the Market City Place.
DESCRIPTION:If you’re looking to bring in the New Year with style\, fun\, laughter\, and dancing\, I hope you’ll consider joining me and a host of talented individuals including; a Comedian\, DJ\, and yours truly! Let’s close out 2017 and bring in 2018 together “Rat Pack” style!
URL:https://www.ratpackricky.com/event/new-years-eve-party-ginos-market-city-place/
LOCATION:Gino’s Italian Restaurant\, 44960 Valley Central Way\, Lancaster\, CA\, 93536\, United States
END:VEVENT
BEGIN:VEVENT
DTSTART;TZID=America/Los_Angeles:20180106T190000
DTEND;TZID=America/Los_Angeles:20180106T220000
DTSTAMP:20260421T214933
CREATED:20171230T085133Z
LAST-MODIFIED:20171230T085133Z
UID:1108-1515265200-1515276000@www.ratpackricky.com
SUMMARY:Private Event - Westlake Village
DESCRIPTION:Performing at a private dinner party. Unfortunately it’s invitation only. I hope to see you at another event down the road. Happy 2018!
URL:https://www.ratpackricky.com/event/private-event-westlake-village-3/
LOCATION:CA
END:VEVENT
BEGIN:VEVENT
DTSTART;TZID=America/Los_Angeles:20180111T190000
DTEND;TZID=America/Los_Angeles:20180111T220000
DTSTAMP:20260421T214933
CREATED:20171229T025709Z
LAST-MODIFIED:20180111T023739Z
UID:1088-1515697200-1515708000@www.ratpackricky.com
SUMMARY:Zelda's - (EVENT CALCELLED DUE TO SCHEDULING CONFLICT)
DESCRIPTION:Please accept my apologize in advance for this unforeseen error. I wasn’t notified of the conflict until last night (01/10/18.) It is my sincere goal to provide a long term schedule on my website so that my valued friends and followers can plan accordingly. Unfortunately\, this scheduling conflict wasn’t discovered until last night and couldn’t be satisfactorily resolved. Please know that I do everything I can to provide up to the minute information regarding my schedule on my website and Facebook page to ensure accuracy. Please continue to refer to both social media sites whenever possible to ensure accuracy. If you should have any questions regarding any of my upcoming appearances feel free to private message me. I truly hope to see you down the road.
URL:https://www.ratpackricky.com/event/zeldas-located-west-end-lpac-theatre-750-w-lacaster-blvd/
LOCATION:Zelda’s 750 West\, 750 West Lancaster Blvd.\, Lancaster\, California \, 93534
END:VEVENT
BEGIN:VEVENT
DTSTART;TZID=America/Los_Angeles:20180113T180000
DTEND;TZID=America/Los_Angeles:20180113T220000
DTSTAMP:20260421T214933
CREATED:20171229T030843Z
LAST-MODIFIED:20171229T030843Z
UID:1090-1515866400-1515880800@www.ratpackricky.com
SUMMARY:Knights of Columbus - Private Party
DESCRIPTION:I’ll be performing at a private party to celebrate the 25th birthday for an awesome friend Ms. Christina Buckley!
URL:https://www.ratpackricky.com/event/knights-columbus-private-party/
LOCATION:CA
END:VEVENT
BEGIN:VEVENT
DTSTART;TZID=America/Los_Angeles:20180117T183000
DTEND;TZID=America/Los_Angeles:20180117T210000
DTSTAMP:20260421T214933
CREATED:20180118T013553Z
LAST-MODIFIED:20180203T203917Z
UID:1140-1516213800-1516222800@www.ratpackricky.com
SUMMARY:Gino's - is located in the Lancaster City Market Place near the JetHawks Stadium!
DESCRIPTION:I’ll take the stage at 6pm and will be performing songs from the Great American Songbook. Please join me for dinner\, an adult beverage\, or a cup of coffee and their truly special desserts. I hope you’ll join me at this family owned and operated restaurant!
URL:https://www.ratpackricky.com/event/ginos-located-lancaster-city-market-place-near-jethawks-stadium/
LOCATION:Gino’s Italian Restaurant\, 44960 Valley Central Way\, Lancaster\, CA\, 93536\, United States
END:VEVENT
BEGIN:VEVENT
DTSTART;TZID=America/Los_Angeles:20180117T190000
DTEND;TZID=America/Los_Angeles:20180117T210000
DTSTAMP:20260421T214933
CREATED:20180118T004920Z
LAST-MODIFIED:20180118T004920Z
UID:1119-1516215600-1516222800@www.ratpackricky.com
SUMMARY:Private Event Camarillo
DESCRIPTION:I’ll be performing at a private event\, but truly hope you’ll join me at one of my upcoming events down the road. Here’s to a busy 2018!
URL:https://www.ratpackricky.com/event/private-event-camarillo/
LOCATION:CA
END:VEVENT
BEGIN:VEVENT
DTSTART;TZID=America/Los_Angeles:20180118T190000
DTEND;TZID=America/Los_Angeles:20180118T220000
DTSTAMP:20260421T214933
CREATED:20171229T031857Z
LAST-MODIFIED:20180103T231805Z
UID:1093-1516302000-1516312800@www.ratpackricky.com
SUMMARY:The Historic Smoke House - Hello Burbank!
DESCRIPTION:Please join me as I kick off my 2018 schedule at the historic Smoke House Restaurant in beautiful downtown Burbank! . Stop by for dinner\, an adult beverage\, or indulge in there world famous garlic bread and a bottle of vino\, as I provide the evenings entertainment! Remember without each of you\, none of this is possible. Happy New Year!
URL:https://www.ratpackricky.com/event/historic-smoke-house-hello-burbank/
LOCATION:The Smoke House Restaurant\, 4420 Lakeside Dr\, Burbank\, CA\, 91505\, United States
END:VEVENT
BEGIN:VEVENT
DTSTART;TZID=America/Los_Angeles:20180120T180000
DTEND;TZID=America/Los_Angeles:20180120T210000
DTSTAMP:20260421T214933
CREATED:20171229T033033Z
LAST-MODIFIED:20171229T033033Z
UID:1098-1516471200-1516482000@www.ratpackricky.com
SUMMARY:Gino's West - located in the Lancaster Market City Place
DESCRIPTION:Please stop by as I continue to kick off my 2018 schedule at this family owned and operated Italian Restaurant. I’ll be providing the evenings entertainment and hope to release some new material as well. May you and your family enjoy all the blessings of the New Year!
URL:https://www.ratpackricky.com/event/ginos-west-located-lancaster-market-city-place/
LOCATION:Gino’s Italian Restaurant\, 44960 Valley Central Way\, Lancaster\, CA\, 93536\, United States
END:VEVENT
BEGIN:VEVENT
DTSTART;TZID=America/Los_Angeles:20180124T220000
DTEND;TZID=America/Los_Angeles:20180125T020000
DTSTAMP:20260421T214933
CREATED:20171229T035307Z
LAST-MODIFIED:20180122T203208Z
UID:1102-1516831200-1516845600@www.ratpackricky.com
SUMMARY:Roxy - EVENT CANCELLED AND WILL BE RE-SCHEDULED - To Be Announced!
DESCRIPTION:Blessed to kick off the New Year with my third appearance at this historic venue! I’ll be opening for three up and coming bands\, and then providing the entertainment as each band transitions from one to the next. I know this is a late evening for most my family and friends\, as it’s mid week; however\, I hope if your schedule permits that you’ll stop by and say hello!
URL:https://www.ratpackricky.com/event/roxy-world-famous-sunset-strip-event-free/
LOCATION:Roxy\, 909 W. Sunset Blvd.\, West Hollywood\, CA\, 90069\, United States
END:VEVENT
BEGIN:VEVENT
DTSTART;TZID=America/Los_Angeles:20180131T190000
DTEND;TZID=America/Los_Angeles:20180131T220000
DTSTAMP:20260421T214933
CREATED:20171229T040339Z
LAST-MODIFIED:20171229T040339Z
UID:1105-1517425200-1517436000@www.ratpackricky.com
SUMMARY:Hello Pasadena! Sorriso's - located in Old Town Pasadena on Colorado Blvd.
DESCRIPTION:I’ll be filling in for a good friend and fellow Crooner at this wonderful quaint establishment! Great food\, Great Patrons\, and a beautiful establishment located in the historic portion of Old Town Pasadena. Remember\, without you it’s just not the same!
URL:https://www.ratpackricky.com/event/hello-pasadena-sorrisos-located-old-town-pasadena-colorado-blvd/
LOCATION:Sorriso’s\, 46 E. Colorado Blvd\, Pasadena\, California\, 91105
END:VEVENT
END:VCALENDAR