BEGIN:VCALENDAR
VERSION:2.0
PRODID:-//Rat Pack Ricky Medlin - ECPv6.15.17//NONSGML v1.0//EN
CALSCALE:GREGORIAN
METHOD:PUBLISH
X-ORIGINAL-URL:https://www.ratpackricky.com
X-WR-CALDESC:Events for Rat Pack Ricky Medlin
REFRESH-INTERVAL;VALUE=DURATION:PT1H
X-Robots-Tag:noindex
X-PUBLISHED-TTL:PT1H
BEGIN:VTIMEZONE
TZID:America/Los_Angeles
BEGIN:DAYLIGHT
TZOFFSETFROM:-0800
TZOFFSETTO:-0700
TZNAME:PDT
DTSTART:20170312T100000
END:DAYLIGHT
BEGIN:STANDARD
TZOFFSETFROM:-0700
TZOFFSETTO:-0800
TZNAME:PST
DTSTART:20171105T090000
END:STANDARD
BEGIN:DAYLIGHT
TZOFFSETFROM:-0800
TZOFFSETTO:-0700
TZNAME:PDT
DTSTART:20180311T100000
END:DAYLIGHT
BEGIN:STANDARD
TZOFFSETFROM:-0700
TZOFFSETTO:-0800
TZNAME:PST
DTSTART:20181104T090000
END:STANDARD
BEGIN:DAYLIGHT
TZOFFSETFROM:-0800
TZOFFSETTO:-0700
TZNAME:PDT
DTSTART:20190310T100000
END:DAYLIGHT
BEGIN:STANDARD
TZOFFSETFROM:-0700
TZOFFSETTO:-0800
TZNAME:PST
DTSTART:20191103T090000
END:STANDARD
END:VTIMEZONE
BEGIN:VEVENT
DTSTART;TZID=America/Los_Angeles:20180208T190000
DTEND;TZID=America/Los_Angeles:20180208T220000
DTSTAMP:20260421T202648
CREATED:20180204T023312Z
LAST-MODIFIED:20180204T032519Z
UID:1156-1518116400-1518127200@www.ratpackricky.com
SUMMARY:Zelda's 750 W. Lancaster Blvd. adjacent to LPAC.
DESCRIPTION:I hope you’ll consider stopping by for a wonderful evening with good friends\, family\, and of course me\, as I provide the evenings entertainment. Usually the more colder nights are held inside to ensure everyone comfort. Please be sure to dress warm just in case we find ourselves on the most remarkably designed patio that I’ve ever seen. Remember\, without each of you\, it’s never the same.
URL:https://www.ratpackricky.com/event/zeldas-750-w-lancaster-blvd-adjacent-to-lpac/
LOCATION:Zelda’s 750 West\, 750 West Lancaster Blvd.\, Lancaster\, California \, 93534
END:VEVENT
BEGIN:VEVENT
DTSTART;TZID=America/Los_Angeles:20180210T180000
DTEND;TZID=America/Los_Angeles:20180210T233000
DTSTAMP:20260421T202648
CREATED:20180204T025957Z
LAST-MODIFIED:20180206T053409Z
UID:1159-1518285600-1518305400@www.ratpackricky.com
SUMMARY:Valentine's Day Dinner and Dance - Me with the Bob Noval Orchestra and my dear friends the Fulco's
DESCRIPTION:I’m blessed to have been asked to be part of this wonderful event. I’ll be performing some of my favorites for the first time with the Bob Noval Orchestra. The nights event will include dinner\, dancing\, and will close with my dear friends the Fulco’s. And if that’s not enough\, I’ll be performing a duet with the beautifully talented Ms. Joei Fulco. You don’t want to miss this! Get your tickets before they’re are sold out. An event like this in L.A. is well over a hundred dollars. The entire evening will be less than a tank of gas – $40.00 dollars!
URL:https://www.ratpackricky.com/event/valentines-day-dinner-and-dance-me-with-the-bob-noval-orchestra-and-my-dear-friends-the-fulcos/
LOCATION:Knight’s of Columbus Hall\, 719 West Columbia Way\, Palmdale\, California\, 93551
END:VEVENT
BEGIN:VEVENT
DTSTART;TZID=America/Los_Angeles:20180214T173000
DTEND;TZID=America/Los_Angeles:20180214T183000
DTSTAMP:20260421T202648
CREATED:20180204T030342Z
LAST-MODIFIED:20180204T030342Z
UID:1167-1518629400-1518633000@www.ratpackricky.com
SUMMARY:Scholl Canyon Estates - Private Event
DESCRIPTION:I have the wonderful privilege of performing for my special friends and their guest at this beautiful facility.
URL:https://www.ratpackricky.com/event/scholl-canyon-estates-private-event/
LOCATION:CA
END:VEVENT
BEGIN:VEVENT
DTSTART;TZID=America/Los_Angeles:20180215T190000
DTEND;TZID=America/Los_Angeles:20180215T220000
DTSTAMP:20260421T202648
CREATED:20180118T012901Z
LAST-MODIFIED:20180204T032709Z
UID:1136-1518721200-1518732000@www.ratpackricky.com
SUMMARY:The Historic Smoke House - Hello Burbank!
DESCRIPTION:Please join me as I provide the evenings entertainment at this truly historic venue! If you have been to this wonderful venue\, welcomed back. If you have never been\, you have got to take in the rich history of this truly historic landmark. Located across the street from the Warner Bros. Studios\, and just down the hill from Universal City. You just never know who’s going to show up. Remember\, I only get to do what I love because of each of you! I’m humbled beyond words!
URL:https://www.ratpackricky.com/event/historic-smoke-house-hello-burbank-2/
LOCATION:The Smoke House Restaurant\, 4420 Lakeside Dr\, Burbank\, CA\, 91505\, United States
END:VEVENT
BEGIN:VEVENT
DTSTART;TZID=America/Los_Angeles:20180217T180000
DTEND;TZID=America/Los_Angeles:20180217T210000
DTSTAMP:20260421T202648
CREATED:20180204T032010Z
LAST-MODIFIED:20180204T032010Z
UID:1171-1518890400-1518901200@www.ratpackricky.com
SUMMARY:Gino's - located in the Lancaster Market City Place nearby the spectacular JetHawks Stadium
DESCRIPTION:I’ll be performing at this wonderful family owned business. Great Italian Food\, wonderful staff\, and of course me performing the evenings entertainment. I hope to see you there!
URL:https://www.ratpackricky.com/event/ginos-located-in-the-lancaster-market-city-place-nearby-the-spectacular-jethawks-stadium/
LOCATION:Gino’s Italian Restaurant\, 44960 Valley Central Way\, Lancaster\, CA\, 93536\, United States
END:VEVENT
BEGIN:VEVENT
DTSTART;TZID=America/Los_Angeles:20180221T140000
DTEND;TZID=America/Los_Angeles:20180221T150000
DTSTAMP:20260421T202648
CREATED:20180118T013857Z
LAST-MODIFIED:20180118T013857Z
UID:1143-1519221600-1519225200@www.ratpackricky.com
SUMMARY:The Ellison John Transitional Center - Private appearance!
DESCRIPTION:I’ll be performing an hour long show for the resident’s of this truly remarkable venue!
URL:https://www.ratpackricky.com/event/ellison-john-transitional-center-private-appearance/
LOCATION:CA
END:VEVENT
BEGIN:VEVENT
DTSTART;TZID=America/Los_Angeles:20180224T180000
DTEND;TZID=America/Los_Angeles:20180224T210000
DTSTAMP:20260421T202648
CREATED:20180118T014608Z
LAST-MODIFIED:20180118T014608Z
UID:1145-1519495200-1519506000@www.ratpackricky.com
SUMMARY:Gino's - in the Lancaster Market City Place near the JetHawks Stadium!
DESCRIPTION:Wow! Twice in one month\, how lucky am I. I hope you’ll consider stopping by and enjoying a wonderful Italian dinner while I provide the evenings entertainment! I’ll take the stage at 6pm and will be taking request. I hope to see you there.
URL:https://www.ratpackricky.com/event/ginos-lancaster-market-city-place-near-jethawks-stadium-2/
LOCATION:Gino’s Italian Restaurant\, 44960 Valley Central Way\, Lancaster\, CA\, 93536\, United States
END:VEVENT
END:VCALENDAR