BEGIN:VCALENDAR
VERSION:2.0
PRODID:-//Rat Pack Ricky Medlin - ECPv6.15.17//NONSGML v1.0//EN
CALSCALE:GREGORIAN
METHOD:PUBLISH
X-WR-CALNAME:Rat Pack Ricky Medlin
X-ORIGINAL-URL:https://www.ratpackricky.com
X-WR-CALDESC:Events for Rat Pack Ricky Medlin
REFRESH-INTERVAL;VALUE=DURATION:PT1H
X-Robots-Tag:noindex
X-PUBLISHED-TTL:PT1H
BEGIN:VTIMEZONE
TZID:America/Los_Angeles
BEGIN:DAYLIGHT
TZOFFSETFROM:-0800
TZOFFSETTO:-0700
TZNAME:PDT
DTSTART:20170312T100000
END:DAYLIGHT
BEGIN:STANDARD
TZOFFSETFROM:-0700
TZOFFSETTO:-0800
TZNAME:PST
DTSTART:20171105T090000
END:STANDARD
BEGIN:DAYLIGHT
TZOFFSETFROM:-0800
TZOFFSETTO:-0700
TZNAME:PDT
DTSTART:20180311T100000
END:DAYLIGHT
BEGIN:STANDARD
TZOFFSETFROM:-0700
TZOFFSETTO:-0800
TZNAME:PST
DTSTART:20181104T090000
END:STANDARD
BEGIN:DAYLIGHT
TZOFFSETFROM:-0800
TZOFFSETTO:-0700
TZNAME:PDT
DTSTART:20190310T100000
END:DAYLIGHT
BEGIN:STANDARD
TZOFFSETFROM:-0700
TZOFFSETTO:-0800
TZNAME:PST
DTSTART:20191103T090000
END:STANDARD
END:VTIMEZONE
BEGIN:VEVENT
DTSTART;TZID=America/Los_Angeles:20180301T180000
DTEND;TZID=America/Los_Angeles:20180301T200000
DTSTAMP:20260421T185513
CREATED:20180214T081041Z
LAST-MODIFIED:20180214T081041Z
UID:1189-1519927200-1519934400@www.ratpackricky.com
SUMMARY:Private Event - KFG
DESCRIPTION:I’ll be providing the entertainment for a private corporate party.  I hope to see you at one of my other appearances down the road. Until then\, may each day bring you and yours continued blessings.
URL:https://www.ratpackricky.com/event/private-event-kfg/
LOCATION:CA
END:VEVENT
BEGIN:VEVENT
DTSTART;TZID=America/Los_Angeles:20180303T190000
DTEND;TZID=America/Los_Angeles:20180303T220000
DTSTAMP:20260421T185513
CREATED:20180214T082012Z
LAST-MODIFIED:20180214T082012Z
UID:1191-1520103600-1520114400@www.ratpackricky.com
SUMMARY:Pour D' Vino
DESCRIPTION:I’ll be performing at this quaint wine lounge and bistro. I hope you’ll consider stopping by to say hello\, and help me while I sing the classics. Remember\, it’s never the same without each of you!
URL:https://www.ratpackricky.com/event/pour-d-vino/
LOCATION:Pour D’ Vino\, 741 W. Lancaster Blvd.\, Lancaster\, California \, 93534
END:VEVENT
BEGIN:VEVENT
DTSTART;TZID=America/Los_Angeles:20180308T190000
DTEND;TZID=America/Los_Angeles:20180308T220000
DTSTAMP:20260421T185513
CREATED:20180214T082802Z
LAST-MODIFIED:20180214T082802Z
UID:1193-1520535600-1520546400@www.ratpackricky.com
SUMMARY:Zelda's - Adjacent to LPAC
DESCRIPTION:I’ll be performing the classics at this one of a kind venue in the High Desert. Good food\, nice drinks\, and wonderful desserts. Please check out their website for additional. Remember to wear warm clothes\, as the event is sometimes held on the patio with large heaters for your comfort. The decision to perform inside or on the patio is made the night of the event. Remember none of this is possible without each and everyone of you.
URL:https://www.ratpackricky.com/event/zeldas-adjacent-to-lpac/
LOCATION:Zelda’s 750 West\, 750 West Lancaster Blvd.\, Lancaster\, California \, 93534
END:VEVENT
BEGIN:VEVENT
DTSTART;TZID=America/Los_Angeles:20180309T190000
DTEND;TZID=America/Los_Angeles:20180309T220000
DTSTAMP:20260421T185513
CREATED:20180221T074138Z
LAST-MODIFIED:20180221T074138Z
UID:1197-1520622000-1520632800@www.ratpackricky.com
SUMMARY:Rancho Vista Golf Course and Country Club
DESCRIPTION:I hope you’ll join me as I take the stage to perform at this breath taking venue with water falls and an exceptional bar and restaurant. Please remember that I’m blessed to do what I do thanks to each of you that come out and support me.
URL:https://www.ratpackricky.com/event/rancho-vista-golf-course-and-country-club/
LOCATION:Rancho Vista Golf Country Club\, 3905 Club Rancho Drive\, Palmdale\, California \, 93551
END:VEVENT
BEGIN:VEVENT
DTSTART;TZID=America/Los_Angeles:20180315T190000
DTEND;TZID=America/Los_Angeles:20180315T220000
DTSTAMP:20260421T185513
CREATED:20180221T080801Z
LAST-MODIFIED:20180221T080801Z
UID:1202-1521140400-1521151200@www.ratpackricky.com
SUMMARY:Hello Burbank! The Historic Smoke House.
DESCRIPTION:Please join me at this one of a kind historic venue located directly across the street from Warner Bros. Studios and just down the hill from Universal. This historic venue has been the host to numerous iconic actors\, actresses\, and even my favorite – “The Rat Pack.” If you’ve never had there world famous garlic bread you’re missing out! I hope to see you there.
URL:https://www.ratpackricky.com/event/hello-burbank-the-historic-smoke-house/
LOCATION:The Smoke House Restaurant\, 4420 Lakeside Dr\, Burbank\, CA\, 91505\, United States
END:VEVENT
BEGIN:VEVENT
DTSTART;TZID=America/Los_Angeles:20180316T183000
DTEND;TZID=America/Los_Angeles:20180316T203000
DTSTAMP:20260421T185513
CREATED:20180226T092327Z
LAST-MODIFIED:20180226T092327Z
UID:1210-1521225000-1521232200@www.ratpackricky.com
SUMMARY:Private Event NAHREP Instillation Dinner
DESCRIPTION:I’ll be providing the entertainment for this wonderful group of real estate professionals. I hope to see you at an event down the road. Until then\, may your blessings be plentiful.
URL:https://www.ratpackricky.com/event/private-event-nahrep-instillation-dinner/
LOCATION:Hellenic Center\, 43404 30th Street West\, Lancaster\, California\, 93536
END:VEVENT
BEGIN:VEVENT
DTSTART;TZID=America/Los_Angeles:20180317T180000
DTEND;TZID=America/Los_Angeles:20180317T210000
DTSTAMP:20260421T185513
CREATED:20180221T075948Z
LAST-MODIFIED:20180221T075948Z
UID:1199-1521309600-1521320400@www.ratpackricky.com
SUMMARY:Gino's Located in the Market City Place nearby the JetHawks Stadium.
DESCRIPTION:Please join me as I take the stage at this wonderful family owned restaurant. Grab dinner\, or just dessert\, as I perform many of the classics from the Great American Songbook. Remember it’s never the same without each of you.
URL:https://www.ratpackricky.com/event/ginos-located-in-the-market-city-place-nearby-the-jethawks-stadium/
LOCATION:Gino’s Italian Restaurant\, 44960 Valley Central Way\, Lancaster\, CA\, 93536\, United States
END:VEVENT
BEGIN:VEVENT
DTSTART;TZID=America/Los_Angeles:20180324T180000
DTEND;TZID=America/Los_Angeles:20180324T210000
DTSTAMP:20260421T185513
CREATED:20180221T082310Z
LAST-MODIFIED:20180324T174733Z
UID:1208-1521914400-1521925200@www.ratpackricky.com
SUMMARY:Private Event - Pacific Palisades
DESCRIPTION:I’ll be performing at a private event in this beautiful community near the beach. I hope to see you soon. Until then\, much love and continued blessings.
URL:https://www.ratpackricky.com/event/private-event-pacific-palisades/
LOCATION:CA
END:VEVENT
BEGIN:VEVENT
DTSTART;TZID=America/Los_Angeles:20180326T173000
DTEND;TZID=America/Los_Angeles:20180326T203000
DTSTAMP:20260421T185513
CREATED:20180326T074106Z
LAST-MODIFIED:20180326T074106Z
UID:1242-1522085400-1522096200@www.ratpackricky.com
SUMMARY:Private Event - Thousand Oaks
DESCRIPTION:
URL:https://www.ratpackricky.com/event/private-event-thousand-oaks-2/
LOCATION:CA
END:VEVENT
BEGIN:VEVENT
DTSTART;TZID=America/Los_Angeles:20180328T113000
DTEND;TZID=America/Los_Angeles:20180328T133000
DTSTAMP:20260421T185513
CREATED:20180226T094102Z
LAST-MODIFIED:20180226T094102Z
UID:1214-1522236600-1522243800@www.ratpackricky.com
SUMMARY:Private Event - Valencia - Tenant Appreciation Luncheon
DESCRIPTION:I’ll be providing the entertainment for an estimated 400 tenants at this private event. I hope to see each of you again soon. Until then\, may your blessings be plentiful.
URL:https://www.ratpackricky.com/event/private-event-valencia-tenant-appreciation-luncheon/
LOCATION:CA
END:VEVENT
END:VCALENDAR